BEGIN:VCALENDAR
VERSION:2.0
PRODID:-//ChamberMaster//Event Calendar 2.0//EN
METHOD:PUBLISH
X-PUBLISHED-TTL:P3D
REFRESH-INTERVAL:P3D
CALSCALE:GREGORIAN
BEGIN:VEVENT
DTSTART;VALUE=DATE:20161105
DTEND;VALUE=DATE:20161106
TRANSP:TRANSPARENT
X-MICROSOFT-CDO-ALLDAYEVENT:TRUE
SUMMARY:Portsmouth Public Library host the Local Authors Fair
DESCRIPTION:25 local authors in one building! Hear them read excerpts\, talk with them about the craft\, and maybe buy a few books for the holiday season. Fiction\, nonfiction\, and poetry!
X-ALT-DESC;FMTTYPE=text/html:25 local authors in one building! Hear them read excerpts\, talk with them about the craft\, and maybe buy a few books for the holiday season. Fiction\, nonfiction\, and poetry!
LOCATION:Portsmouth Public Library
UID:e.1659.27693
SEQUENCE:3
DTSTAMP:20260421T210330Z
URL:https://business.portsmouthchamber.org/events/details/local-authors-fair-27693
END:VEVENT

END:VCALENDAR
