BEGIN:VCALENDAR
VERSION:2.0
PRODID:-//ChamberMaster//Event Calendar 2.0//EN
METHOD:PUBLISH
X-PUBLISHED-TTL:P3D
REFRESH-INTERVAL:P3D
CALSCALE:GREGORIAN
BEGIN:VEVENT
DTSTART:20160316T230000Z
DTEND:20160317T010000Z
X-MICROSOFT-CDO-ALLDAYEVENT:FALSE
SUMMARY:Long Story Short: Past Live
DESCRIPTION:Long Story Short is a non-fiction storytelling series featuring writers\, performers and regular folk from across Northern New England. Held every other month\, on the third Wednesday of the month\, each Long Story Short event puts six storytellers on the stage at 3S Artspace to share their tales of a strange\, sad or significant moment from their lives. This months theme is: Past Lives.
X-ALT-DESC;FMTTYPE=text/html:Long Story Short is a non-fiction storytelling series featuring writers\, performers and regular folk from across Northern New England. Held every other month\, on the third Wednesday of the month\, each Long Story Short event puts six storytellers on the stage at 3S Artspace to share their tales of a strange\, sad or significant moment from their lives. This months theme is: Past Lives.
LOCATION:3S Artspace 319 Vaughan Street\, Portsmouth
UID:e.1659.17896
SEQUENCE:3
DTSTAMP:20260420T145642Z
URL:https://business.portsmouthchamber.org/events/details/long-story-short-past-live-03-16-2016-17896
END:VEVENT

END:VCALENDAR
