BEGIN:VCALENDAR
VERSION:2.0
PRODID:-//ChamberMaster//Event Calendar 2.0//EN
METHOD:PUBLISH
X-PUBLISHED-TTL:P3D
REFRESH-INTERVAL:P3D
CALSCALE:GREGORIAN
BEGIN:VEVENT
DTSTART:20160316T233000Z
DTEND:20160317T020000Z
X-MICROSOFT-CDO-ALLDAYEVENT:FALSE
SUMMARY:Lost Coast: Songwriters from NH/ME Border
DESCRIPTION:LOST COAST: Songwriters from the NH/ME border hosted by Jonathan Frazer Lessard \n\n\n\nA round robin style songwriters showcase featuring: \n\nBlake Joseph Seale Jr. - http://newlegs.bandcamp.com \n\nSeth Gooby - www.sethgooby.com \n\nJonathan Frazer Lessard - reverbnation.com/ jonathanfrazerlessard \n\nJake Mehrmann of Tan Vampires http://www.tanvampires.com \n\nNoah Lefebvre of Rick Rude and Tell Stories - https://rickrude1.bandcamp.com
X-ALT-DESC;FMTTYPE=text/html:<span style="color: rgb(0\, 0\, 0)\; font-family: Arial\, Helvetica\, sans-serif\; font-size: 15px\; line-height: normal\;">LOST COAST: Songwriters from the NH/ME border hosted by Jonathan Frazer Lessard&nbsp\;</span><br />\n<br style="font-family: Arial\, Helvetica\, sans-serif\; font-size: 15px\; margin: 0px\; padding: 0px\; color: rgb(0\, 0\, 0)\; line-height: normal\;" />\n<span style="color: rgb(0\, 0\, 0)\; font-family: Arial\, Helvetica\, sans-serif\; font-size: 15px\; line-height: normal\;">A round robin style songwriters showcase featuring:&nbsp\;</span><br style="font-family: Arial\, Helvetica\, sans-serif\; font-size: 15px\; margin: 0px\; padding: 0px\; color: rgb(0\, 0\, 0)\; line-height: normal\;" />\n<span style="color: rgb(0\, 0\, 0)\; font-family: Arial\, Helvetica\, sans-serif\; font-size: 15px\; line-height: normal\;">Blake Joseph Seale Jr. - http://newlegs.bandcamp.com&nbsp\;</span><br style="font-family: Arial\, Helvetica\, sans-serif\; font-size: 15px\; margin: 0px\; padding: 0px\; color: rgb(0\, 0\, 0)\; line-height: normal\;" />\n<span style="color: rgb(0\, 0\, 0)\; font-family: Arial\, Helvetica\, sans-serif\; font-size: 15px\; line-height: normal\;">Seth Gooby - www.sethgooby.com&nbsp\;</span><br style="font-family: Arial\, Helvetica\, sans-serif\; font-size: 15px\; margin: 0px\; padding: 0px\; color: rgb(0\, 0\, 0)\; line-height: normal\;" />\n<span style="color: rgb(0\, 0\, 0)\; font-family: Arial\, Helvetica\, sans-serif\; font-size: 15px\; line-height: normal\;">Jonathan Frazer Lessard - reverbnation.com/ jonathanfrazerlessard&nbsp\;</span><br style="font-family: Arial\, Helvetica\, sans-serif\; font-size: 15px\; margin: 0px\; padding: 0px\; color: rgb(0\, 0\, 0)\; line-height: normal\;" />\n<span style="color: rgb(0\, 0\, 0)\; font-family: Arial\, Helvetica\, sans-serif\; font-size: 15px\; line-height: normal\;">Jake Mehrmann of Tan Vampires http://www.tanvampires.com&nbsp\;</span><br style="font-family: Arial\, Helvetica\, sans-serif\; font-size: 15px\; margin: 0px\; padding: 0px\; color: rgb(0\, 0\, 0)\; line-height: normal\;" />\n<span style="color: rgb(0\, 0\, 0)\; font-family: Arial\, Helvetica\, sans-serif\; font-size: 15px\; line-height: normal\;">Noah Lefebvre of Rick Rude and Tell Stories - https://rickrude1.bandcamp.com</span>
LOCATION:Seacoast Rep 125 Bow Street\, Portsmouth
UID:e.1659.17895
SEQUENCE:3
DTSTAMP:20260420T150046Z
URL:https://business.portsmouthchamber.org/events/details/lost-coast-songwriters-from-nh-me-border-03-16-2016-17895
END:VEVENT

END:VCALENDAR
