BEGIN:VCALENDAR
VERSION:2.0
PRODID:-//ChamberMaster//Event Calendar 2.0//EN
METHOD:PUBLISH
X-PUBLISHED-TTL:P3D
REFRESH-INTERVAL:P3D
CALSCALE:GREGORIAN
BEGIN:VEVENT
DTSTART:20140730T150000Z
DTEND:20140730T154500Z
X-MICROSOFT-CDO-ALLDAYEVENT:FALSE
SUMMARY:Maintaining Your Garden- Good Bugs & Bad Bugs
DESCRIPTION:Learn about the bugs that help your gardens and the ones that you want to keep away using nature's pest control. Sample some organic treats growing in our museum gardens!
X-ALT-DESC;FMTTYPE=text/html:Learn about the bugs that help your gardens and the ones that you want to keep away using nature&rsquo\;s pest control. Sample some organic treats growing in our museum gardens!
LOCATION:The Children's Museum of New Hampshire
UID:e.1659.2196
SEQUENCE:3
DTSTAMP:20260419T185840Z
URL:https://business.portsmouthchamber.org/events/details/maintaining-your-garden-good-bugs-bad-bugs-07-30-2014-2196
END:VEVENT

END:VCALENDAR
