BEGIN:VCALENDAR
VERSION:2.0
PRODID:-//ChamberMaster//Event Calendar 2.0//EN
METHOD:PUBLISH
X-PUBLISHED-TTL:P3D
REFRESH-INTERVAL:P3D
CALSCALE:GREGORIAN
BEGIN:VEVENT
DTSTART:20131114T224500Z
DTEND:20131115T000000Z
X-MICROSOFT-CDO-ALLDAYEVENT:FALSE
SUMMARY:Marathon Training Injury Free
DESCRIPTION:Whether you are a avid marathon runner or running your first 5K\, you will benefit from this FREE lecture. Want to learn how to train for a marathon without having to worry about injuring yourself in the process?  Want to hit your PR every time you run?  Come join us and learn stretches and exercises that will  help you train at 100% without injury!
X-ALT-DESC;FMTTYPE=text/html:Whether you are a avid marathon runner or running your first 5K\, you will benefit from this FREE lecture. Want to learn how to train for a marathon without having to worry about injuring yourself in the process?&nbsp\; Want to hit your PR every time you run?&nbsp\; Come join us and learn stretches and exercises that will&nbsp\; help you train at 100% without injury!
LOCATION:The SEACOAST Spine & Sports Injuries Clinic at 12 Portwalk Place Portsmouth\, NH 03801
UID:e.1659.741
SEQUENCE:3
DTSTAMP:20260420T060442Z
URL:https://business.portsmouthchamber.org/events/details/marathon-training-injury-free-11-14-2013-741
END:VEVENT

END:VCALENDAR
