BEGIN:VCALENDAR
VERSION:2.0
PRODID:-//ChamberMaster//Event Calendar 2.0//EN
METHOD:PUBLISH
X-PUBLISHED-TTL:P3D
REFRESH-INTERVAL:P3D
CALSCALE:GREGORIAN
BEGIN:VEVENT
DTSTART:20160124T210000Z
DTEND:20160125T040000Z
X-MICROSOFT-CDO-ALLDAYEVENT:FALSE
SUMMARY:Margaritas Exeter Full Moon Madness!
DESCRIPTION:Join the New Hampshire SPCA on Sunday\, January 24\, 2016 from 4PM-Close at Margarita's Exeter for the Full Moon Madness Benefit Night! Margaritas Exeter will be donating 5% of the evenings lounge sales to benefit the nearly 2\,500 homeless and neglected animals that the New Hampshire SPCA will take in this year. Not only is this for a great cause but it's also great fun. There will be contests\, giveaways\, and more! Come\, dine\, and support the New Hampshire SPCA!
X-ALT-DESC;FMTTYPE=text/html:Join the New Hampshire SPCA on Sunday\, January 24\, 2016 from 4PM-Close at Margarita&#39\;s Exeter for the Full Moon Madness Benefit Night! Margaritas Exeter will be donating 5% of the evenings lounge sales to benefit the nearly 2\,500 homeless and neglected animals that the New Hampshire SPCA will take in this year. Not only is this for a great cause but it&#39\;s also great fun. There will be contests\, giveaways\, and more! Come\, dine\, and support the New Hampshire SPCA!
LOCATION:Margaritas of Exeter 93 Portsmouth Ave. Exeter\, NH 03833
UID:e.1659.15899
SEQUENCE:3
DTSTAMP:20260420T132143Z
URL:https://business.portsmouthchamber.org/events/details/margaritas-exeter-full-moon-madness-01-24-2016-15899
END:VEVENT

END:VCALENDAR
