BEGIN:VCALENDAR
VERSION:2.0
PRODID:-//ChamberMaster//Event Calendar 2.0//EN
METHOD:PUBLISH
X-PUBLISHED-TTL:P3D
REFRESH-INTERVAL:P3D
CALSCALE:GREGORIAN
BEGIN:VEVENT
DTSTART:20161122T220000Z
DTEND:20161123T000000Z
X-MICROSOFT-CDO-ALLDAYEVENT:FALSE
SUMMARY:Martingale Wharf East Lounge Open House & Ribbon Cutting
DESCRIPTION:Please join us at the "Martingale Mixer" Pop Up Party with the Greater Portsmouth Chamber of Commerce and enjoy cocktails and appetizers in our East Lounge. Take a look at the event spaces available to host your guests or clients\, and get an inside look at our impressive private rooms.\n\n\n\nEnjoy a few beverages on us and see what Martingale has to offer!
X-ALT-DESC;FMTTYPE=text/html:Please join us at the &quot\;Martingale Mixer&quot\; Pop Up Party with the Greater Portsmouth Chamber of Commerce and enjoy cocktails and appetizers in our East Lounge. Take a look at the event spaces available to host your guests or clients\, and get an inside look at our impressive private rooms.<br />\n<br />\nEnjoy a few beverages on us and see what&nbsp\;Martingale has to offer!
LOCATION:99 Bow Street Portsmouth NH 03801
UID:e.1659.27966
SEQUENCE:3
DTSTAMP:20260421T212943Z
URL:https://business.portsmouthchamber.org/events/details/martingale-wharf-east-lounge-open-house-ribbon-cutting-27966
END:VEVENT

END:VCALENDAR
