BEGIN:VCALENDAR
VERSION:2.0
PRODID:-//ChamberMaster//Event Calendar 2.0//EN
METHOD:PUBLISH
X-PUBLISHED-TTL:P3D
REFRESH-INTERVAL:P3D
CALSCALE:GREGORIAN
BEGIN:VEVENT
DTSTART:20161101T010000Z
DTEND:20161101T030000Z
X-MICROSOFT-CDO-ALLDAYEVENT:FALSE
SUMMARY:Martingale Wharf invites you to Bar Wars!
DESCRIPTION:Join the Martingale Wharf for bartender competitions for prizes\, raffles and best costume prizes too!\n\n\n\nThe door charge includes food and samples of competing cocktails!
X-ALT-DESC;FMTTYPE=text/html:Join the Martingale Wharf for bartender competitions for prizes\, raffles and best costume prizes too!<br />\n<br />\nThe door charge includes&nbsp\;food and samples of competing cocktails!
LOCATION:Martingale Wharf\, 99 Bow Street\, Portsmouth
UID:e.1659.25921
SEQUENCE:3
DTSTAMP:20260421T225304Z
URL:https://business.portsmouthchamber.org/events/details/martingale-wharf-invites-you-to-bar-wars-25921
END:VEVENT

END:VCALENDAR
