BEGIN:VCALENDAR
VERSION:2.0
PRODID:-//ChamberMaster//Event Calendar 2.0//EN
METHOD:PUBLISH
X-PUBLISHED-TTL:P3D
REFRESH-INTERVAL:P3D
CALSCALE:GREGORIAN
BEGIN:VEVENT
DTSTART:20170102T023000Z
DTEND:20170102T045500Z
X-MICROSOFT-CDO-ALLDAYEVENT:FALSE
SUMMARY:Martingale Wharf's New Years Eve Black & White Ball
DESCRIPTION:Join the Martingale Wharf for a New Years Eve Black & White Ball. Enjoy Live music\, hors d'oeuvres stations\, martini bar\, champagne bar\, party favors\, photo booth and midnight champagne toast!
X-ALT-DESC;FMTTYPE=text/html:Join the Martingale Wharf for a New Years Eve Black &amp\; White Ball. Enjoy Live music\, hors d&#39\;oeuvres stations\, martini bar\, champagne&nbsp\;bar\, party favors\, photo booth and midnight champagne toast!
LOCATION:Martingale Wharf 99 Bow St. Portsmouth
UID:e.1659.28169
SEQUENCE:3
DTSTAMP:20260421T182323Z
URL:https://business.portsmouthchamber.org/events/details/martingale-wharf-s-new-years-eve-black-white-ball-28169
END:VEVENT

END:VCALENDAR
