BEGIN:VCALENDAR
VERSION:2.0
PRODID:-//ChamberMaster//Event Calendar 2.0//EN
METHOD:PUBLISH
X-PUBLISHED-TTL:P3D
REFRESH-INTERVAL:P3D
CALSCALE:GREGORIAN
BEGIN:VEVENT
DTSTART:20130905T213000Z
DTEND:20130906T013000Z
X-MICROSOFT-CDO-ALLDAYEVENT:FALSE
SUMMARY:Massage Therapy Workshop
DESCRIPTION:Interested in a career in Massage Therapy? Learn basic techniques and theory in a four-hour workshop designed to give you some hands-on experience in the work of a massage therapist. \n\n	 \n\n	\n		Discover career paths\, job opportunities\, and how to become a licensed massage therapist.\n	\n		Learn basic massage therapy techniques and theory\n	\n		Lear about the massage therapy degree and certificate programs available at GBCC\n	\n		Get info on how to become a licensed massage therapist\n\n\n	\n\n	For more information or to register please visit http://www.greatbay.edu/?a0=59&a1=btc_solutions#massage
X-ALT-DESC;FMTTYPE=text/html:<p>\n	<span style="font-size:12px\;"><span style="font-family: comic sans ms\;">Interested in a career in Massage Therapy? Learn basic techniques and theory in a four-hour workshop designed to give you some hands-on experience in the work of a massage therapist. </span></span><br />\n	&nbsp\;</p>\n<ul>\n	<li>\n		<span style="font-size:12px\;"><span style="font-family: comic sans ms\;">Discover career paths\, job opportunities\, and how to become a licensed massage therapist.</span></span></li>\n	<li>\n		<span style="font-size:12px\;"><span style="font-family: comic sans ms\;">Learn basic massage therapy techniques and theory</span></span></li>\n	<li data-canvas-width="164.4373411743164" data-font-name="g_font_p0_4" style="font-size: 13.3333px\; font-family: sans-serif\; left: 49.7667px\; top: 427.443px\; transform: scale(0.918644\, 1)\; transform-origin: 0% 0% 0px\;">\n		<span style="font-size:12px\;"><span style="font-family: comic sans ms\;">Lear about the massage therapy degree and certificate programs available at GBCC</span></span></li>\n	<li data-canvas-width="164.4373411743164" data-font-name="g_font_p0_4" style="font-size: 13.3333px\; font-family: sans-serif\; left: 49.7667px\; top: 427.443px\; transform: scale(0.918644\, 1)\; transform-origin: 0% 0% 0px\;">\n		<span style="font-size:12px\;"><span style="font-family: comic sans ms\;">Get info on how to become a licensed massage therapist</span></span></li>\n</ul>\n<div data-canvas-width="325.5293488557816" data-font-name="g_font_p0_4" dir="ltr" style="font-size: 13.3333px\; font-family: sans-serif\; left: 49.7667px\; top: 454.11px\; transform: scale(0.940836\, 1)\; transform-origin: 0% 0% 0px\;">\n	<br />\n	<span style="font-size:12px\;"><span style="font-family: comic sans ms\;">For more information or to register please visit http://www.greatbay.edu/?a0=59&amp\;a1=btc_solutions#massage</span></span></div>\n
LOCATION:Great Bay Community College 320 Corporate Drive Portsmouth\, NH
UID:e.1659.546
SEQUENCE:3
DTSTAMP:20260420T084103Z
URL:https://business.portsmouthchamber.org/events/details/massage-therapy-workshop-09-05-2013-546
END:VEVENT

END:VCALENDAR
