BEGIN:VCALENDAR
VERSION:2.0
PRODID:-//ChamberMaster//Event Calendar 2.0//EN
METHOD:PUBLISH
X-PUBLISHED-TTL:P3D
REFRESH-INTERVAL:P3D
CALSCALE:GREGORIAN
BEGIN:VEVENT
DTSTART:20260426T000000Z
DTEND:20260426T030000Z
X-MICROSOFT-CDO-ALLDAYEVENT:FALSE
SUMMARY:Me Porto Bonito: Reggaeton Party
DESCRIPTION:Come dance to all of Bad Bunny's bangers   plus dancefloor favorites from artists like Karol G\, J Balvin\, Rauw Alejandro\, Ozuna\, Rosal a\, Daddy Yankee\, Feid and more. Sunglasses on. Perreo all night.
X-ALT-DESC;FMTTYPE=text/html:Come dance to all of Bad Bunny&rsquo\;s bangers &mdash\; plus dancefloor favorites from artists like Karol G\, J Balvin\, Rauw Alejandro\, Ozuna\, Rosal&iacute\;a\, Daddy Yankee\, Feid and more. Sunglasses on. Perreo all night.
LOCATION:3S Artspace 319 Vaughan St. Portsmouth\, NH 03801
UID:e.1659.91463
SEQUENCE:3
DTSTAMP:20260421T125600Z
URL:https://business.portsmouthchamber.org/events/details/me-porto-bonito-reggaeton-party-91463
END:VEVENT

END:VCALENDAR
