BEGIN:VCALENDAR
VERSION:2.0
PRODID:-//ChamberMaster//Event Calendar 2.0//EN
METHOD:PUBLISH
X-PUBLISHED-TTL:P3D
REFRESH-INTERVAL:P3D
CALSCALE:GREGORIAN
BEGIN:VEVENT
DTSTART:20141122T150000Z
DTEND:20141122T190000Z
X-MICROSOFT-CDO-ALLDAYEVENT:FALSE
SUMMARY:Meet Clifford The Big Red Dog
DESCRIPTION:The Children's Museum of New Hampshire will be "going to the dogs" on Saturday\, November 22 with a visit from kids' favorite colossal canine\, Clifford the Big Red Dog. Families are invited to come and meet a costumed Clifford character between 10 am and 2 pm as part of the popular Books Alive Children's Literacy Series sponsored by Fidelity Investments.\n\n \n\n"The goal of our Books Alive program is to get kids excited about reading and to make it a family experience\," explained Xanthi Gray\, Educations Coordinator at the Children's Museum of NH. "Clifford is a particularly beloved character to bring to the museum because all generations are familiar with his adventures and personality. He's a positive role model for friendship\, kindness and learning from mistakes."\n\n \n\nAt the Books Alive event on November 22\, museum staff will be reading a variety of Clifford stories written by Norman Bridwell throughout the day. The big friendly dog himself will be popping in and out to greet children\, exchange a hug or high-five\, and pose for photos. There will also be a variety of dog-inspired literacy\, math and creative activities for children to participate in.\n\n \n\nAll Books Alive activities are included with regular paid admission to the museum: $9 for adults and children over the age of 1 and $8 for seniors. Museum admission is free for Children's Museum of NH members and children under 1 year old.
X-ALT-DESC;FMTTYPE=text/html:<span style="font-family:arial\;">The Children&rsquo\;s Museum of New Hampshire will be &ldquo\;going to the dogs&rdquo\; on Saturday\, November 22 with a visit from kids&rsquo\; favorite colossal canine\, Clifford the Big Red Dog. Families are invited to come and meet a costumed Clifford character between 10 am and 2 pm as part of the popular Books Alive Children&rsquo\;s Literacy Series sponsored by Fidelity Investments.</span><br />\n&nbsp\;<br />\n<span style="font-family:arial\;">&ldquo\;The goal of our Books Alive program is to get kids excited about reading and to make it a family experience\,&rdquo\; explained Xanthi Gray\, Educations Coordinator at the Children&rsquo\;s Museum of NH. &ldquo\;Clifford is a particularly beloved character to bring to the museum because all generations are familiar with his adventures and personality. He&rsquo\;s a positive role model for friendship\, kindness and learning from mistakes.&rdquo\;</span><br />\n&nbsp\;<br />\n<span style="font-family:arial\;">At the Books Alive event on November 22\, museum staff will be reading a variety of Clifford stories written by Norman Bridwell throughout the day. The big friendly dog himself will be popping in and out to greet children\, exchange a hug or high-five\, and pose for photos. There will also be a variety of dog-inspired literacy\, math and creative activities for children to participate in.</span><br />\n&nbsp\;<br />\n<span style="font-family:arial\;">All Books Alive activities are included with regular paid admission to the museum: $9 for adults and children over the age of 1 and $8 for seniors. Museum admission is free for Children&rsquo\;s Museum of NH members and children under 1 year old.</span>
LOCATION:Children's Museum of NH\, 6 Washington Street\, Dover NH
UID:e.1659.3458
SEQUENCE:3
DTSTAMP:20260419T131341Z
URL:https://business.portsmouthchamber.org/events/details/meet-clifford-the-big-red-dog-11-22-2014-3458
END:VEVENT

END:VCALENDAR
