BEGIN:VCALENDAR
VERSION:2.0
PRODID:-//ChamberMaster//Event Calendar 2.0//EN
METHOD:PUBLISH
X-PUBLISHED-TTL:P3D
REFRESH-INTERVAL:P3D
CALSCALE:GREGORIAN
BEGIN:VEVENT
DTSTART:20140929T200000Z
DTEND:20140929T220000Z
X-MICROSOFT-CDO-ALLDAYEVENT:FALSE
SUMMARY:Meet Ladder: Blue Ocean Society's New Inflatable Fin Whale!
DESCRIPTION:Join Blue Ocean Society in welcoming their new inflatable fin whale Ladder! Blue Ocean Society for Marine Conservation will be having an evening event on the lawn of the Gov. Langdon House\, 143 Pleasant Street\, Portsmouth\, NH from 4 PM to 6 PM on Monday\, September 29. Now's your chance to stand next to--and even inside a life size fin whale! There will be a raffle that evening for an all day school program with Ladder. Light refreshments will be served. For more information or to RSVP please contact Blue Ocean Society at info@blueoceansociety.org or by calling (603) 431-0260.
X-ALT-DESC;FMTTYPE=text/html:Join Blue Ocean Society in welcoming their new inflatable fin whale Ladder! Blue Ocean Society for Marine Conservation will be having an evening event on the lawn of the Gov. Langdon House\, 143 Pleasant Street\, Portsmouth\, NH from 4 PM to 6 PM on Monday\, September 29. Now&#39\;s your chance to stand next to--and even inside a life size fin whale! There will be a raffle that evening for an all day school program with Ladder. Light refreshments will be served. For more information or to RSVP please contact Blue Ocean Society at info@blueoceansociety.org or by calling (603) 431-0260.
LOCATION:Governor John Langdon House 143 Pleasant Street\, Portsmouth NH 03801
UID:e.1659.2994
SEQUENCE:3
DTSTAMP:20260419T162329Z
URL:https://business.portsmouthchamber.org/events/details/meet-ladder-blue-ocean-society-s-new-inflatable-fin-whale-09-29-2014-2994
END:VEVENT

END:VCALENDAR
