BEGIN:VCALENDAR
VERSION:2.0
PRODID:-//ChamberMaster//Event Calendar 2.0//EN
METHOD:PUBLISH
X-PUBLISHED-TTL:P3D
REFRESH-INTERVAL:P3D
CALSCALE:GREGORIAN
BEGIN:VEVENT
DTSTART:20141011T140000Z
DTEND:20141011T160000Z
X-MICROSOFT-CDO-ALLDAYEVENT:FALSE
SUMMARY:Memorial Bridge Road Race
DESCRIPTION:5K Road Race from Badger's Island into Portsmouth ending at Prescott Park. To benefit Prescott Park Arts Festival and Seacoast Community School (formerly Community Child Care Center of Portsmouth)
X-ALT-DESC;FMTTYPE=text/html:5K Road Race from Badger&#39\;s Island into Portsmouth ending at Prescott Park. To benefit Prescott Park Arts Festival and Seacoast Community School (formerly Community Child Care Center of Portsmouth)
LOCATION:Kittery\, ME
UID:e.1659.2163
SEQUENCE:3
DTSTAMP:20260419T144304Z
URL:https://business.portsmouthchamber.org/events/details/memorial-bridge-road-race-10-11-2014-2163
END:VEVENT

END:VCALENDAR
