BEGIN:VCALENDAR
VERSION:2.0
PRODID:-//ChamberMaster//Event Calendar 2.0//EN
METHOD:PUBLISH
X-PUBLISHED-TTL:P3D
REFRESH-INTERVAL:P3D
CALSCALE:GREGORIAN
BEGIN:VEVENT
DTSTART:20131219T150000Z
DTEND:20131220T020000Z
X-MICROSOFT-CDO-ALLDAYEVENT:FALSE
SUMMARY:Men's Shop Easy Day
DESCRIPTION:Patrons can check off the Wish Lists in their beloved?s favorite shops with the help of personal shopping assistants who make shopping stress free. Watch for gift drawings and nips and nibbles in each shop!
X-ALT-DESC;FMTTYPE=text/html:Patrons can check off the Wish Lists in their beloved?s favorite shops with the help of personal shopping assistants who make shopping stress free. Watch for gift drawings and nips and nibbles in each shop! 
LOCATION:Participating downtown Portsmouth shops.
UID:e.1659.764
SEQUENCE:3
DTSTAMP:20260420T044145Z
URL:https://business.portsmouthchamber.org/events/details/men-s-shop-easy-day-12-19-2013-764
END:VEVENT

END:VCALENDAR
