BEGIN:VCALENDAR
VERSION:2.0
PRODID:-//ChamberMaster//Event Calendar 2.0//EN
METHOD:PUBLISH
X-PUBLISHED-TTL:P3D
REFRESH-INTERVAL:P3D
CALSCALE:GREGORIAN
BEGIN:VEVENT
DTSTART:20160306T180000Z
DTEND:20160306T210000Z
X-MICROSOFT-CDO-ALLDAYEVENT:FALSE
SUMMARY:Met @ The Music Hall - Manon Lescaut (Puccini)
DESCRIPTION:Kristine Opolais and Roberto Alagna star as the ill-fated lovers at the center of Manon Lescaut\, Puccini's passionate adaptation of the classic novel about a free-spirited country girl who becomes the toast of Paris.\n\nSir Richard Eyre's new production\, set in the 1940s\, reunites him with set designer Rob Howell\, his collaborator on recent Met productions of Le Nozze di Figaro\, Werther\, and Carmen. Met Principal Conductor Fabio Luisi conducts the new staging\, which also stars Massimo Cavalletti as Manon's cousin\, Lescaut\, and Brindley Sherratt as Geronte\, her wealthy older lover.
X-ALT-DESC;FMTTYPE=text/html:<p style="margin: 0px 0px 15px\; padding: 0px\; color: rgb(102\, 102\, 102)\; font-family: 'Droid Sans'\, 'Lucida Grande'\, Arial\, sans-serif\; font-size: 16.8px\; line-height: 26.4px\;">Kristine Opolais and Roberto Alagna star as the ill-fated lovers at the center of Manon Lescaut\, Puccini&rsquo\;s passionate adaptation of the classic novel about a free-spirited country girl who becomes the toast of Paris.</p>\n\n<p style="margin: 0px 0px 15px\; padding: 0px\; color: rgb(102\, 102\, 102)\; font-family: 'Droid Sans'\, 'Lucida Grande'\, Arial\, sans-serif\; font-size: 16.8px\; line-height: 26.4px\;">Sir Richard Eyre&rsquo\;s new production\, set in the 1940s\, reunites him with set designer Rob Howell\, his collaborator on recent Met productions of&nbsp\;<em>Le Nozze di Figaro</em>\,&nbsp\;<em>Werther</em>\, and&nbsp\;<em>Carmen</em>. Met Principal Conductor Fabio Luisi conducts the new staging\, which also stars Massimo Cavalletti as Manon&rsquo\;s cousin\, Lescaut\, and Brindley Sherratt as Geronte\, her wealthy older lover.</p>\n
LOCATION:The Music Hall 28 Chestnut Street\, Portsmouth
UID:e.1659.16690
SEQUENCE:3
DTSTAMP:20260420T145815Z
URL:https://business.portsmouthchamber.org/events/details/met-the-music-hall-manon-lescaut-puccini-03-06-2016-16690
END:VEVENT

END:VCALENDAR
