BEGIN:VCALENDAR
VERSION:2.0
PRODID:-//ChamberMaster//Event Calendar 2.0//EN
METHOD:PUBLISH
X-PUBLISHED-TTL:P3D
REFRESH-INTERVAL:P3D
CALSCALE:GREGORIAN
BEGIN:VEVENT
DTSTART:20161119T140000Z
DTEND:20161119T190000Z
X-MICROSOFT-CDO-ALLDAYEVENT:FALSE
SUMMARY:Middle Street Baptist host their annual Red Sleigh Bazaar & Community Luncheon
DESCRIPTION:Our annual holiday bazaar and luncheon for the community. We will have our fresh baked goods & treats table. Find some gently used children's toys\, attic treasures\, books\, gadgets\, and furniture. We will also have a fabulous raffle!! $5 Hot lunch will be served. Choose a homemade hot turkey sandwich or beef stew with biscuit\; drink and dessert included.
X-ALT-DESC;FMTTYPE=text/html:Our annual holiday bazaar and luncheon for the community. We will have our fresh baked goods &amp\; treats table. Find some gently used children&#39\;s toys\, attic treasures\, books\, gadgets\, and furniture. We will also have a fabulous raffle!! $5 Hot lunch will be served. Choose a homemade hot turkey sandwich or beef stew with biscuit\; drink and dessert included.
LOCATION:Middle Street Baptist Church 18 Court Street\, Portsmouth NH. Located at the corner of Middle and Court Street. Parking is behind the church. Wheelchair friendly.
UID:e.1659.27690
SEQUENCE:3
DTSTAMP:20260421T212840Z
URL:https://business.portsmouthchamber.org/events/details/middle-street-babtist-host-their-annual-red-sleigh-bazaar-community-luncheon-27690
END:VEVENT

END:VCALENDAR
