BEGIN:VCALENDAR
VERSION:2.0
PRODID:-//ChamberMaster//Event Calendar 2.0//EN
METHOD:PUBLISH
X-PUBLISHED-TTL:P3D
REFRESH-INTERVAL:P3D
CALSCALE:GREGORIAN
BEGIN:VEVENT
DTSTART:20161008T203000Z
DTEND:20161008T223000Z
X-MICROSOFT-CDO-ALLDAYEVENT:FALSE
SUMMARY:Middle Street Baptist Church host Harvest Super Saturday
DESCRIPTION:Harvest Super Saturday\,  baked chicken\, real mashed potato\, winter squash\, coleslaw\, cranberry sauce and pies! Come and sit down OR we can arrange for take-out too! Local\, fresh & homemade!
X-ALT-DESC;FMTTYPE=text/html:Harvest Super Saturday\, &nbsp\;baked chicken\, real mashed potato\, winter squash\, coleslaw\, cranberry sauce and pies! Come and sit down OR we can arrange for take-out too! Local\, fresh &amp\; homemade!&nbsp\;&nbsp\;
LOCATION:MSBC is located at 18 Middle Street\, Portsmouth. Park in the back of the church by the entrance. Wheelchair friendly!
UID:e.1659.25892
SEQUENCE:3
DTSTAMP:20260421T225427Z
URL:https://business.portsmouthchamber.org/events/details/middle-street-baptist-church-host-harvest-super-saturday-25892
END:VEVENT

END:VCALENDAR
