BEGIN:VCALENDAR
VERSION:2.0
PRODID:-//ChamberMaster//Event Calendar 2.0//EN
METHOD:PUBLISH
X-PUBLISHED-TTL:P3D
REFRESH-INTERVAL:P3D
CALSCALE:GREGORIAN
BEGIN:VEVENT
DTSTART:20161217T203000Z
DTEND:20161217T215000Z
X-MICROSOFT-CDO-ALLDAYEVENT:FALSE
SUMMARY:Middle Street Baptist Church presents The Majesty of the Christmas Manger
DESCRIPTION:The Majesty of the Christmas Manger A LIVE reenactment of the birth of Christ First show is at 3:30pm and the second is at 4:30pm. Each show lasts 20 minutes. Outdoor event. Live barn animals. Christmas Carols. Hot Coffee & Sweets. Wheelchair Friendly.
X-ALT-DESC;FMTTYPE=text/html:The Majesty of the Christmas Manger A LIVE reenactment of the birth of Christ First show is at 3:30pm and the second is at 4:30pm. Each show lasts 20 minutes. Outdoor event. Live barn animals. Christmas Carols. Hot Coffee &amp\; Sweets. Wheelchair Friendly.
LOCATION:18 Court Street\, Portsmouth NH. Located at the corner of Middle and Court Street.
UID:e.1659.28166
SEQUENCE:3
DTSTAMP:20260421T213547Z
URL:https://business.portsmouthchamber.org/events/details/middle-street-baptist-church-presents-the-majesty-of-the-christmas-manger-28166
END:VEVENT

END:VCALENDAR
