BEGIN:VCALENDAR
VERSION:2.0
PRODID:-//ChamberMaster//Event Calendar 2.0//EN
METHOD:PUBLISH
X-PUBLISHED-TTL:P3D
REFRESH-INTERVAL:P3D
CALSCALE:GREGORIAN
BEGIN:VEVENT
DTSTART;VALUE=DATE:20161007
DTEND;VALUE=DATE:20161008
TRANSP:TRANSPARENT
X-MICROSOFT-CDO-ALLDAYEVENT:TRUE
SUMMARY:Ogunquit Playhouse presents Million Dollar Quartet
DESCRIPTION:Elvis\, Jerry Lee\, Perkins\, Cash - They came together to make music. Their story made history. Million Dollar Quartet is the Tony Award-winning Broadway musical inspired by the electrifying true story of the famed recording session that brought together rock 'n' roll icons Elvis Presley\, Johnny Cash\, Jerry Lee Lewis and Carl Perkins for the first and only time. On December 4\, 1956\, these four young musicians were gathered together by Sam Phillips\, the "Father of Rock 'n' Roll\," at Sun Records in Memphis for what would be one of the greatest jam sessions of all time. Million Dollar Quartet brings that legendary night to life with an irresistible tale of broken promises\, secrets\, friendships and celebrations\, featuring timeless hits such as "Blue Suede Shoes\," "Great Balls of Fire\," "I Walk the Line\," "Whole Lotta Shakin' Goin' On\," "Fever\," "Folsom Prison Blues\," "Hound Dog" and more. This thrilling musical brings you inside the recording studio with four major talents who came together as a red-hot rock 'n' roll band for one unforgettable night. It was Rock and Roll's best kept secret...until now! \n\nRun Time: 2 hours with intermission\n\nContent Advisory: PG - Mild adult situations including cigarette smoking. (There is no official rating system for live theatre. We encourage you to use your judgment based on your child's age and maturity level.)
X-ALT-DESC;FMTTYPE=text/html:<p>Elvis\, Jerry Lee\, Perkins\, Cash - They came together to make music. Their story made history.<em>&nbsp\;Million Dollar Quartet</em>&nbsp\;is the Tony Award-winning Broadway musical inspired by the electrifying true story of the famed recording session that brought together rock &#39\;n&#39\; roll icons Elvis Presley\, Johnny Cash\, Jerry Lee Lewis and Carl Perkins for the first and only time. On December 4\, 1956\, these four young musicians were gathered together by Sam Phillips\, the &quot\;Father of Rock &#39\;n&#39\; Roll\,&quot\; at Sun Records in Memphis for what would be one of the greatest jam sessions of all time.&nbsp\;<em>Million Dollar Quartet</em>&nbsp\;brings that legendary night to life with an irresistible tale of broken promises\, secrets\, friendships and celebrations\, featuring timeless hits such as &quot\;Blue Suede Shoes\,&quot\; &quot\;Great Balls of Fire\,&quot\; &quot\;I Walk the Line\,&quot\; &quot\;Whole Lotta Shakin&#39\; Goin&#39\; On\,&quot\; &quot\;Fever\,&quot\; &quot\;Folsom Prison Blues\,&quot\; &quot\;Hound Dog&quot\; and more. This thrilling musical brings you inside the recording studio with four major talents who came together as a red-hot rock &lsquo\;n&rsquo\; roll band for one unforgettable night. It was Rock and Roll&#39\;s best kept secret...until now!&nbsp\;</p>\n\n<p><strong>Run Time</strong>: 2 hours with intermission</p>\n\n<p><strong>Content Advisory</strong>: PG - Mild adult situations including cigarette smoking. (There is no official rating system for live theatre. We encourage you to use your judgment based on your child&#39\;s age and maturity level.)</p>\n
LOCATION:Ogunquit Playhouse 10 Main Street (Rte 1) Ogunquit\, ME 03907
UID:e.1659.21066
SEQUENCE:3
DTSTAMP:20260421T224818Z
URL:https://business.portsmouthchamber.org/events/details/million-dollar-quartet-10-07-2016-21066
END:VEVENT

END:VCALENDAR
