BEGIN:VCALENDAR
VERSION:2.0
PRODID:-//ChamberMaster//Event Calendar 2.0//EN
METHOD:PUBLISH
X-PUBLISHED-TTL:P3D
REFRESH-INTERVAL:P3D
CALSCALE:GREGORIAN
BEGIN:VEVENT
DTSTART:20140713T213000Z
DTEND:20140714T010000Z
X-MICROSOFT-CDO-ALLDAYEVENT:FALSE
SUMMARY:Miss Portsmouth Area Scholarship Competition
DESCRIPTION:See Portsmouth Royalty crowned!  Join us as we crown our second Miss Portsmouth Area!  Portsmouth Gaslight 3rd Floor 5:30pm!   Come cheer on your favorite contestant! The Miss America Pageant is among the most enduring endeavors in modern American history. From its humble beginnings as a "bathing beauty" contest in the 1920s\, the Miss America Organization today is our nations largest scholarship provider for young women\, awarding over $45 million dollars in scholarship assistance annually. The Miss America organization provides women the opportunity to further their educational goals\, serve their communities and charitable causes\, as well as develop necessary professional communication skills to be the leaders of tomorrow.
X-ALT-DESC;FMTTYPE=text/html:See Portsmouth Royalty crowned! &nbsp\;Join us as we crown our second Miss Portsmouth Area! &nbsp\;Portsmouth Gaslight 3rd Floor 5:30pm! &nbsp\; Come cheer on your favorite contestant! The Miss America Pageant is among the most enduring endeavors in modern American history. From its humble beginnings as a &quot\;bathing beauty&quot\; contest in the 1920s\, the Miss America Organization today is our nations largest scholarship provider for young women\, awarding over $45 million dollars in scholarship assistance annually. The Miss America organization provides women the opportunity to further their educational goals\, serve their communities and charitable causes\, as well as develop necessary professional communication skills to be the leaders of tomorrow.
LOCATION:The Portsmouth Gaslight 3rd Floor
UID:e.1659.2201
SEQUENCE:3
DTSTAMP:20260419T190622Z
URL:https://business.portsmouthchamber.org/events/details/miss-portsmouth-area-scholarship-competition-07-13-2014-2201
END:VEVENT

END:VCALENDAR
