BEGIN:VCALENDAR
VERSION:2.0
PRODID:-//ChamberMaster//Event Calendar 2.0//EN
METHOD:PUBLISH
X-PUBLISHED-TTL:P3D
REFRESH-INTERVAL:P3D
CALSCALE:GREGORIAN
BEGIN:VEVENT
DTSTART:20160421T220000Z
DTEND:20160422T000000Z
X-MICROSOFT-CDO-ALLDAYEVENT:FALSE
SUMMARY:Misto! & Tributary Beer Dinner
DESCRIPTION:Misto! and Tributary Brewing at collaborating on a beer dinner on April 21st. Guests will enjoy 5 internationally enthused small plates with beer pairings.\n\n\n\n$65/person\n\n\n\nTo register\, call 207-703-0606 or online: www.mistocafebistro.com. Search the calendar for April 21.
X-ALT-DESC;FMTTYPE=text/html:Misto! and Tributary Brewing at collaborating on a beer dinner on April 21st. Guests will enjoy 5 internationally enthused small plates with beer pairings.<br />\n<br />\n$65/person<br />\n<br />\nTo register\, call 207-703-0606 or online: www.mistocafebistro.com. Search the calendar for April 21.&nbsp\;
LOCATION:Misto! cafe.bar.bistro 436 Route 1\, Kittery\, Maine
UID:e.1659.19290
SEQUENCE:3
DTSTAMP:20260420T131005Z
URL:https://business.portsmouthchamber.org/events/details/misto-tributary-beer-dinner-04-21-2016-19290
END:VEVENT

END:VCALENDAR
