BEGIN:VCALENDAR
VERSION:2.0
PRODID:-//ChamberMaster//Event Calendar 2.0//EN
METHOD:PUBLISH
X-PUBLISHED-TTL:P3D
REFRESH-INTERVAL:P3D
CALSCALE:GREGORIAN
BEGIN:VEVENT
DTSTART:20161118T190000Z
DTEND:20161121T010000Z
X-MICROSOFT-CDO-ALLDAYEVENT:FALSE
SUMMARY:Moffatt-Ladd House brings the Celebration of Wreaths and Trees.
DESCRIPTION:It is FREE to enter a wreath or tree!  Large trees (artificial for inside\, real trees can be displayed outside in the garden)\, small trees (artificial only\, for display in the house)\, wreaths\, and outside installations all welcome.
X-ALT-DESC;FMTTYPE=text/html:It is FREE to enter a wreath or tree! &nbsp\;Large trees (artificial for inside\, real trees can be displayed outside in the garden)\, small trees (artificial only\, for display in the house)\, wreaths\, and outside installations all welcome. &nbsp\;
LOCATION:Moffatt-ladd House and Garden\, 154 Market Street\, Portsmouth
UID:e.1659.25922
SEQUENCE:3
DTSTAMP:20260421T213321Z
URL:https://business.portsmouthchamber.org/events/details/moffatt-ladd-house-brings-the-celebration-of-wreaths-and-trees-25922
END:VEVENT

END:VCALENDAR
