BEGIN:VCALENDAR
VERSION:2.0
PRODID:-//ChamberMaster//Event Calendar 2.0//EN
METHOD:PUBLISH
X-PUBLISHED-TTL:P3D
REFRESH-INTERVAL:P3D
CALSCALE:GREGORIAN
BEGIN:VEVENT
DTSTART:20260510T140000Z
DTEND:20260510T190000Z
X-MICROSOFT-CDO-ALLDAYEVENT:FALSE
SUMMARY:Mother's Day Brunch at 110 Grill
DESCRIPTION:Come celebrate Mother's Day brunch at 110 Grill! Available 10 AM - 3 PM on Sunday 5/10. Reservations are highly recommended.
X-ALT-DESC;FMTTYPE=text/html:Come celebrate Mother&#39\;s Day brunch at 110 Grill! Available 10 AM - 3 PM on Sunday 5/10. Reservations are highly recommended.
LOCATION:110 Grill Portsmouth 103 Hanover St Portsmouth\, NH 03801
UID:e.1659.91466
SEQUENCE:3
DTSTAMP:20260423T052128Z
URL:https://business.portsmouthchamber.org/events/details/mother-s-day-brunch-at-110-grill-91466
END:VEVENT

END:VCALENDAR
