BEGIN:VCALENDAR
VERSION:2.0
PRODID:-//ChamberMaster//Event Calendar 2.0//EN
METHOD:PUBLISH
X-PUBLISHED-TTL:P3D
REFRESH-INTERVAL:P3D
CALSCALE:GREGORIAN
BEGIN:VEVENT
DTSTART:20260510T160000Z
DTEND:20260510T160000Z
X-MICROSOFT-CDO-ALLDAYEVENT:FALSE
SUMMARY:Mother’s Day Brunch at Jumpin’ Jay’s Fish Cafe
DESCRIPTION:Join us at Jumpin' Jay's Fish Cafe in downtown Portsmouth for Mother's Day brunch on Sunday\, May 10.\n\n\n\nWe'll be serving brunch from 10:00am 2:00pm\, featuring raw bar selections\, brunch favorites\, and mimosas. It's a relaxed\, celebratory way to spend the day with the moms in your life.\n\n\n\nReservations are recommended\, especially for mid-morning.
X-ALT-DESC;FMTTYPE=text/html:Join us at Jumpin&rsquo\; Jay&rsquo\;s Fish Cafe in downtown Portsmouth for Mother&rsquo\;s Day brunch on Sunday\, May 10.<br />\n<br />\nWe&rsquo\;ll be serving brunch from 10:00am&ndash\;2:00pm\, featuring raw bar selections\, brunch favorites\, and mimosas. It&rsquo\;s a relaxed\, celebratory way to spend the day with the moms in your life.<br />\n<br />\nReservations are recommended\, especially for mid-morning.
LOCATION:Jumpin' Jay's Fish Cafe 150 Congress Street Portsmouth\, NH
UID:e.1659.91465
SEQUENCE:3
DTSTAMP:20260423T052239Z
URL:https://business.portsmouthchamber.org/events/details/mother-s-day-brunch-at-jumpin-jay-s-fish-cafe-05-10-2026-91465
END:VEVENT

END:VCALENDAR
