BEGIN:VCALENDAR
VERSION:2.0
PRODID:-//ChamberMaster//Event Calendar 2.0//EN
METHOD:PUBLISH
X-PUBLISHED-TTL:P3D
REFRESH-INTERVAL:P3D
CALSCALE:GREGORIAN
BEGIN:VEVENT
DTSTART:20260510T144500Z
DTEND:20260510T160000Z
X-MICROSOFT-CDO-ALLDAYEVENT:FALSE
SUMMARY:Mother's Day Jazz Brunch With the Al Cron Quartet (10:45AM)
DESCRIPTION:Note: Two Brunch Shows will be Offered:\n\n10:45 AM (doors open 10 AM) & 1:15 PM (doors open 12:30 PM)\n\n\n\nCelebrate Mother's Day with a swinging\, entertaining jazz brunch led by the prominent Al Cron Quartet. Bring along your family and friends for great jazz and a delicious selection of brunch items.\n\n\n\nA longtime force on the New England jazz scene\, trombonist Al Cron blends hard-swinging grooves\, classic standards\, and original music drawn from his recent digital releases "The Prowl" and "Circles and Roots". Rooted in the sound of the Blue Note era but alive with modern energy\, his music moves effortlessly from laid-back ballads to toe-tapping burners perfect for a relaxed Sunday morning with family and friends.\n\n\n\nJoining Cron is a powerhouse band featuring the dynamic Brooke Sofferman on drums\, soulful John Piazza Jr. on trumpet and vocals\, and the always amazing Bruce Gertz on bass.\n\n\n\nTreat Mom\, your friends\, and yourself to great food\, great company\, and live jazz that feels timeless\, vibrant\, and full of heart. Plan to come early to place your food and drink orders. A selection of brunch and lunch items will be available for purchase during both shows.\n\n\n\nThis show is offered in partnership with the Seacoast Jazz Society\n\n(https://www.seacoastjazz.org)
X-ALT-DESC;FMTTYPE=text/html:Note: Two Brunch Shows will be Offered:<br />\n10:45 AM (doors open 10 AM) &amp\; 1:15 PM (doors open 12:30 PM)<br />\n<br />\nCelebrate Mother&rsquo\;s Day with a swinging\, entertaining jazz brunch led by the prominent Al Cron Quartet. Bring along your family and friends for great jazz and a delicious selection of brunch items.<br />\n<br />\nA longtime force on the New England jazz scene\, trombonist Al Cron blends hard-swinging grooves\, classic standards\, and original music drawn from his recent digital releases &quot\;The Prowl&quot\; and &quot\;Circles and Roots&quot\;. Rooted in the sound of the Blue Note era but alive with modern energy\, his music moves effortlessly from laid-back ballads to toe-tapping burners&mdash\;perfect for a relaxed Sunday morning with family and friends.<br />\n<br />\nJoining Cron is a powerhouse band featuring the dynamic Brooke Sofferman on drums\, soulful John Piazza Jr. on trumpet and vocals\, and the always amazing Bruce Gertz on bass.<br />\n<br />\nTreat Mom\, your friends\, and yourself to great food\, great company\, and live jazz that feels timeless\, vibrant\, and full of heart. Plan to come early to place your food and drink orders. A selection of brunch and lunch items will be available for purchase during both shows.<br />\n<br />\nThis show is offered in partnership with the Seacoast Jazz Society<br />\n(https://www.seacoastjazz.org)
LOCATION:The Press Room 77 Daniel St. Portsmouth\, NH
UID:e.1659.89308
SEQUENCE:3
DTSTAMP:20260421T130553Z
URL:https://business.portsmouthchamber.org/events/details/mother-s-day-jazz-brunch-with-the-al-cron-quartet-10-45am-89308
END:VEVENT

END:VCALENDAR
