BEGIN:VCALENDAR
VERSION:2.0
PRODID:-//ChamberMaster//Event Calendar 2.0//EN
METHOD:PUBLISH
X-PUBLISHED-TTL:P3D
REFRESH-INTERVAL:P3D
CALSCALE:GREGORIAN
BEGIN:VEVENT
DTSTART:20260118T170000Z
DTEND:20260118T170000Z
X-MICROSOFT-CDO-ALLDAYEVENT:FALSE
SUMMARY:MUSIC: Bill Laurance
DESCRIPTION:Grammy Award-winning pianist\, composer\, and producer Bill Laurance is internationally acclaimed for his genre-defying blend of jazz\, classical\, and electronic music. A founding member of Snarky Puppy\, he has earned five Grammy Awards\, including Best Contemporary Instrumental Album for Empire Central\, Live at the Royal Albert Hall\, Culcha Vulcha\, and Sylva\, as well as Best R&B Performance for the band's collaboration with Lalah Hathaway. Laurance's versatility has made him a sought-after collaborator across film\, television\, and dance. His work has appeared in campaigns for Apple and Sky\, and in films including Un Traductor and Initials S.G.\, for which he composed original themes. He also collaborated closely with David Crosby\, including on the documentary Remember My Name. His compositions have been performed by major ensembles such as the WDR Big Band Cologne and Metropole Orkest. Recent releases: Keeping Company (with Michael League\, 2024) and his 12th solo album Lumen (2025)
X-ALT-DESC;FMTTYPE=text/html:<span style="color:rgb(31\, 38\, 45)\; font-family:averta\,proximanova\,arial\,sans-serif\; font-size:14px">Grammy Award-winning pianist\, composer\, and producer Bill Laurance is internationally acclaimed for his genre-defying blend of jazz\, classical\, and electronic music. A founding member of Snarky Puppy\, he has earned five Grammy Awards\, including Best Contemporary Instrumental Album for Empire Central\, Live at the Royal Albert Hall\, Culcha Vulcha\, and Sylva\, as well as Best R&amp\;B Performance for the band&#39\;s collaboration with Lalah Hathaway. Laurance&#39\;s versatility has made him a sought-after collaborator across film\, television\, and dance. His work has appeared in campaigns for Apple and Sky\, and in films including Un Traductor and Initials S.G.\, for which he composed original themes. He also collaborated closely with David Crosby\, including on the documentary Remember My Name. His compositions have been performed by major ensembles such as the WDR Big Band Cologne and Metropole Orkest. Recent releases: Keeping Company (with Michael League\, 2024) and his 12th solo album Lumen (2025) </span>
LOCATION:
UID:e.1659.86975
SEQUENCE:3
DTSTAMP:20260423T133106Z
URL:https://business.portsmouthchamber.org/events/details/music-bill-laurance-86975
END:VEVENT

END:VCALENDAR
