BEGIN:VCALENDAR
VERSION:2.0
PRODID:-//ChamberMaster//Event Calendar 2.0//EN
METHOD:PUBLISH
X-PUBLISHED-TTL:P3D
REFRESH-INTERVAL:P3D
CALSCALE:GREGORIAN
BEGIN:VEVENT
DTSTART:20140724T223000Z
DTEND:20140725T003000Z
X-MICROSOFT-CDO-ALLDAYEVENT:FALSE
SUMMARY:Music-by-the-Sea with Entrain
DESCRIPTION:The Seacoast Science Center's outdoor concert series brings some of New England's favorite bands to the seacoast this summer for its 19th season. Sponsored by the Atlantic Grill\, Music-by-the-Sea is the Center's signature fundraising event.  Be sure to arrive early on July 24 when Entrain rocks the shore. Entrain has proven to be a favorite of Music-by-the-Sea fans and has brought sell-out crowds. The band is praised for its ability to shift effortlessly between musical styles from rock\, blues\, calypso and ska\, to zydeco\, jazz and funk-all based around drums and an infectious rhythm. Located on the rocky shore of Odiorne Point State Park\, you cannot beat the Seacoast Science Center?s ocean view and relaxed atmosphere. In addition\, you'll feel great knowing that all proceeds from the event support the non-profit's Marine Mammal Rescue and ocean education efforts. Concerts are held under a festive tent on the lawn of the Center\, rain or shine. Bring a beach blanket or chair\, pack a picnic\, or purchase freshly grilled dinner and beverages on site. Concert-goers can enjoy the Center and its exhibits\, free with concert admission. Alcohol and dogs may not be brought into the park\; adult beverages available for purchase.
X-ALT-DESC;FMTTYPE=text/html:The Seacoast Science Center&#39\;s outdoor concert series brings some of New England&#39\;s favorite bands to the seacoast this summer for its 19th season. Sponsored by the Atlantic Grill\, Music-by-the-Sea is the Center&#39\;s signature fundraising event.&nbsp\; Be sure to arrive early on July 24 when Entrain rocks the shore. Entrain has proven to be a favorite of Music-by-the-Sea fans and has brought sell-out crowds. The band is praised for its ability to shift effortlessly between musical styles from rock\, blues\, calypso and ska\, to zydeco\, jazz and funk-all based around drums and an infectious rhythm. Located on the rocky shore of Odiorne Point State Park\, you cannot beat the Seacoast Science Center?s ocean view and relaxed atmosphere. In addition\, you&#39\;ll feel great knowing that all proceeds from the event support the non-profit&#39\;s Marine Mammal Rescue and ocean education efforts. Concerts are held under a festive tent on the lawn of the Center\, rain or shine. Bring a beach blanket or chair\, pack a picnic\, or purchase freshly grilled dinner and beverages on site. Concert-goers can enjoy the Center and its exhibits\, free with concert admission. Alcohol and dogs may not be brought into the park\; adult beverages available for purchase.
LOCATION:Lawn of the Seacoast Science Center Odiorne Point State Park Rte. 1A 570 Ocean Blvd.\, Rye\, NH
UID:e.1659.2184
SEQUENCE:3
DTSTAMP:20260419T190229Z
URL:https://business.portsmouthchamber.org/events/details/music-by-the-sea-with-entrain-07-24-2014-2184
END:VEVENT

END:VCALENDAR
