BEGIN:VCALENDAR
VERSION:2.0
PRODID:-//ChamberMaster//Event Calendar 2.0//EN
METHOD:PUBLISH
X-PUBLISHED-TTL:P3D
REFRESH-INTERVAL:P3D
CALSCALE:GREGORIAN
BEGIN:VEVENT
DTSTART:20251228T003000Z
DTEND:20251228T020000Z
X-MICROSOFT-CDO-ALLDAYEVENT:FALSE
SUMMARY:MUSIC: ELEW
DESCRIPTION:Eric Lewis\, also known as ELEW\, is an acclaimed pianist and innovator. A native of Camden\, New Jersey\, he won the prestigious Thelonious Monk International Piano Competition in 1999 and toured with jazz legends like Wynton Marsalis\, Elvin Jones\, and Roy Hargrove. ELEW redefined jazz by blending piano techniques with rock elements\, creating a unique style called "Rockjazz." He's known for his bold reinterpretations of songs by artists like Nirvana and Coldplay. In addition to his music career\, ELEW is a prominent DJ and creator of "Piano Turntablism\," where he merges live piano with DJ techniques\, bringing a high-energy\, crossover experience to events worldwide. With a rich legacy of performances and innovations\, including his signature "Counterbop" technique\, ELEW continues to captivate global audiences with his dynamic fusion of jazz\, rock\, and electronic music.
X-ALT-DESC;FMTTYPE=text/html:Eric Lewis\, also known as ELEW\, is an acclaimed pianist and innovator. A native of Camden\, New Jersey\, he won the prestigious Thelonious Monk International Piano Competition in 1999 and toured with jazz legends like Wynton Marsalis\, Elvin Jones\, and Roy Hargrove. ELEW redefined jazz by blending piano techniques with rock elements\, creating a unique style called &ldquo\;Rockjazz.&rdquo\; He&rsquo\;s known for his bold reinterpretations of songs by artists like Nirvana and Coldplay. In addition to his music career\, ELEW is a prominent DJ and creator of &ldquo\;Piano Turntablism\,&rdquo\; where he merges live piano with DJ techniques\, bringing a high-energy\, crossover experience to events worldwide. With a rich legacy of performances and innovations\, including his signature &ldquo\;Counterbop&rdquo\; technique\, ELEW continues to captivate global audiences with his dynamic fusion of jazz\, rock\, and electronic music.
LOCATION:Jimmy's Jazz & Blues Club 135 Congress St. Portsmouth N.H. 03801
UID:e.1659.86900
SEQUENCE:3
DTSTAMP:20260423T133044Z
URL:https://business.portsmouthchamber.org/events/details/music-elew-86900
END:VEVENT

END:VCALENDAR
