BEGIN:VCALENDAR
VERSION:2.0
PRODID:-//ChamberMaster//Event Calendar 2.0//EN
METHOD:PUBLISH
X-PUBLISHED-TTL:P3D
REFRESH-INTERVAL:P3D
CALSCALE:GREGORIAN
BEGIN:VEVENT
DTSTART:20260124T003000Z
DTEND:20260124T023000Z
X-MICROSOFT-CDO-ALLDAYEVENT:FALSE
SUMMARY:MUSIC: Eliza Neals
DESCRIPTION:Eliza Neals is an award-winning musician\, pianist\, producer\, and bandleader whose powerhouse vocals and fiery stage presence are redefining modern blues-rock. A Wayne University graduate with a BA in opera and prot g  of Motown legend Barrett Strong Jr. (I Heard It Through the Grapevine\, Papa Was a Rolling Stone)\, Eliza fuses blues\, rock\, and soul into unforgettable songs heard daily on SiriusXM's B.B. King's Bluesville. Praised by icons like Buddy Guy\, Mick Jagger\, Joe Louis Walker\, and Walter Trout\, she's been invited four times to the Mustique Blues Festival\, where Mick Jagger called her "a voice I soon won't forget." Eliza's most recent honors include two 2024 Independent Blues Awards ('Road Warrior' plus 'Best Blues-Rock Song' for Candy Store)\, 2024 Music Connection's Hot 100 Unsigned Artist\, and the 2018 Detroit Black Music Award for Blues Artist of the Year.
X-ALT-DESC;FMTTYPE=text/html:<span style="color:rgb(31\, 38\, 45)\; font-family:averta\,proximanova\,arial\,sans-serif\; font-size:14px">Eliza Neals is an award-winning musician\, pianist\, producer\, and bandleader whose powerhouse vocals and fiery stage presence are redefining modern blues-rock. A Wayne University graduate with a BA in opera and prot&eacute\;g&eacute\; of Motown legend Barrett Strong Jr. (I Heard It Through the Grapevine\, Papa Was a Rolling Stone)\, Eliza fuses blues\, rock\, and soul into unforgettable songs heard daily on SiriusXM&#39\;s B.B. King&#39\;s Bluesville. Praised by icons like Buddy Guy\, Mick Jagger\, Joe Louis Walker\, and Walter Trout\, she&#39\;s been invited four times to the Mustique Blues Festival\, where Mick Jagger called her &quot\;a voice I soon won&#39\;t forget.&quot\; Eliza&#39\;s most recent honors include two 2024 Independent Blues Awards (&#39\;Road Warrior&#39\; plus &#39\;Best Blues-Rock Song&#39\; for Candy Store)\, 2024 Music Connection&#39\;s Hot 100 Unsigned Artist\, and the 2018 Detroit Black Music Award for Blues Artist of the Year. </span>
LOCATION:
UID:e.1659.86976
SEQUENCE:3
DTSTAMP:20260423T133243Z
URL:https://business.portsmouthchamber.org/events/details/music-eliza-neals-86976
END:VEVENT

END:VCALENDAR
