BEGIN:VCALENDAR
VERSION:2.0
PRODID:-//ChamberMaster//Event Calendar 2.0//EN
METHOD:PUBLISH
X-PUBLISHED-TTL:P3D
REFRESH-INTERVAL:P3D
CALSCALE:GREGORIAN
BEGIN:VEVENT
DTSTART:20251221T200000Z
DTEND:20251221T220000Z
X-MICROSOFT-CDO-ALLDAYEVENT:FALSE
SUMMARY:MUSIC: Family Holiday Pops! with the Portsmouth Symphony Orchestra
DESCRIPTION:A cherished tradition returns! Family Holiday Pops! is the perfect way to celebrate the season with the whole family. Enjoy a sparkling blend of holiday classics\, festive favorites\, and a joyful holiday sing-along that will fill the hall with cheer. This year's performance will be extra special as the orchestra is joined by Monte Bohanan narrating the timeless classic "The Night Before Christmas." Bring your loved ones and experience the magic\, music\, and memories that make the holidays shine!
X-ALT-DESC;FMTTYPE=text/html:A cherished tradition returns! Family Holiday Pops! is the perfect way to celebrate the season with the whole family. Enjoy a sparkling blend of holiday classics\, festive favorites\, and a joyful holiday sing-along that will fill the hall with cheer. This year&rsquo\;s performance will be extra special as the orchestra is joined by Monte Bohanan narrating the timeless classic &ldquo\;The Night Before Christmas.&rdquo\; Bring your loved ones and experience the magic\, music\, and memories that make the holidays shine!
LOCATION:Portsmouth High School 50 Andrew Jarvis Dr\, Portsmouth\, NH 03801
UID:e.1659.86967
SEQUENCE:3
DTSTAMP:20260423T134021Z
URL:https://business.portsmouthchamber.org/events/details/music-family-holiday-pops-with-the-portsmouth-symphony-orchestra-86967
END:VEVENT

END:VCALENDAR
