BEGIN:VCALENDAR
VERSION:2.0
PRODID:-//ChamberMaster//Event Calendar 2.0//EN
METHOD:PUBLISH
X-PUBLISHED-TTL:P3D
REFRESH-INTERVAL:P3D
CALSCALE:GREGORIAN
BEGIN:VEVENT
DTSTART:20160306T010000Z
DTEND:20160306T030000Z
X-MICROSOFT-CDO-ALLDAYEVENT:FALSE
SUMMARY:Music Hall Presents - Celtic Nights: Spirit of Freedom
DESCRIPTION:Through music\, song\, dance\, and storytelling\, Celtic Nights honors the struggle of a people fighting to gain freedom\, independence\, and true democracy. Spirit of Freedom tells the story of Irish independence\, beginning  100 years ago with the Easter Rising. Akin to America's 4th of July\, the Easter Rising of 1916 created the Ireland we know and love today.\n\nTheir driving passion for music and dance is the keystone of Celtic identity.   Their response to melody\, lyric\, and the criss-crossing rhythms of Irish dance is reflexive\, intuitive\, and filled with joy. Above all else\, it is this natural affinity with music and song that has given Celtic people a truly global voice\, a Celtic voice.
X-ALT-DESC;FMTTYPE=text/html:<p style="margin: 0px 0px 15px\; padding: 0px\; color: rgb(102\, 102\, 102)\; font-family: 'Droid Sans'\, 'Lucida Grande'\, Arial\, sans-serif\; font-size: 16.8px\; line-height: 26.4px\;">Through music\, song\, dance\, and storytelling\, Celtic Nights honors the struggle of a people fighting to gain freedom\, independence\, and true democracy. Spirit of Freedom tells the story of Irish independence\, beginning&#8232\; 100 years ago with the Easter Rising. Akin to America&rsquo\;s 4th of July\, the Easter Rising of 1916 created the Ireland we know and love today.</p>\n\n<p style="margin: 0px 0px 15px\; padding: 0px\; color: rgb(102\, 102\, 102)\; font-family: 'Droid Sans'\, 'Lucida Grande'\, Arial\, sans-serif\; font-size: 16.8px\; line-height: 26.4px\;">Their driving passion for music and dance is the keystone of Celtic identity. &#8232\;&#8232\;Their response to melody\, lyric\, and the criss-crossing rhythms of Irish dance is reflexive\, intuitive\, and filled with joy. Above all else\, it is this natural affinity with music and song that has given Celtic people a truly global voice\, a Celtic voice.</p>\n
LOCATION:The Music Hall 28 Chestnut Street\, Portsmouth
UID:e.1659.16688
SEQUENCE:3
DTSTAMP:20260420T150625Z
URL:https://business.portsmouthchamber.org/events/details/music-hall-presents-celtic-nights-spirit-of-freedom-03-05-2016-16688
END:VEVENT

END:VCALENDAR
