BEGIN:VCALENDAR
VERSION:2.0
PRODID:-//ChamberMaster//Event Calendar 2.0//EN
METHOD:PUBLISH
X-PUBLISHED-TTL:P3D
REFRESH-INTERVAL:P3D
CALSCALE:GREGORIAN
BEGIN:VEVENT
DTSTART:20160326T200000Z
DTEND:20160326T220000Z
X-MICROSOFT-CDO-ALLDAYEVENT:FALSE
SUMMARY:Music Hall Presents - Moscow Festival Ballet: Sleeping Beauty
DESCRIPTION:Each Spring\, The Music Hall's ballet becomes a special occasion in Portsmouth when families get dressed up and come out on the town. With a special "$15 for 18 and under" ticket and great restaurants\, families can make a day of brunch and ballet!\n\nThe Sleeping Beauty\, a crowning jewel of Marius Petipa's career\, is often considered the finest achievement of the Classical ballet. It is a grandiose and refined blending of the traditional mime\, expressive pas d'action and spectacular divertissements in a lavish theatrical setting.
X-ALT-DESC;FMTTYPE=text/html:<p style="margin: 0px 0px 15px\; padding: 0px\; color: rgb(102\, 102\, 102)\; font-family: 'Droid Sans'\, 'Lucida Grande'\, Arial\, sans-serif\; font-size: 16.8px\; line-height: 26.4px\;">Each Spring\, The Music Hall&rsquo\;s ballet becomes a special occasion in Portsmouth when families get dressed up and come out on the town. With a special &ldquo\;$15 for 18 and under&rdquo\; ticket and great restaurants\, families can make a day of brunch and ballet!</p>\n\n<p style="margin: 0px 0px 15px\; padding: 0px\; color: rgb(102\, 102\, 102)\; font-family: 'Droid Sans'\, 'Lucida Grande'\, Arial\, sans-serif\; font-size: 16.8px\; line-height: 26.4px\;">The Sleeping Beauty\, a crowning jewel of Marius Petipa&rsquo\;s career\, is often considered the&nbsp\;finest achievement of the Classical ballet. It is a grandiose and refined blending of the traditional mime\, expressive pas d&rsquo\;action and spectacular divertissements in a lavish theatrical setting.</p>\n
LOCATION:The Music Hall 28 Chestnut Street\, Portsmouth
UID:e.1659.16713
SEQUENCE:3
DTSTAMP:20260420T150431Z
URL:https://business.portsmouthchamber.org/events/details/music-hall-presents-moscow-festival-ballet-sleeping-beauty-03-26-2016-16713
END:VEVENT

END:VCALENDAR
