BEGIN:VCALENDAR
VERSION:2.0
PRODID:-//ChamberMaster//Event Calendar 2.0//EN
METHOD:PUBLISH
X-PUBLISHED-TTL:P3D
REFRESH-INTERVAL:P3D
CALSCALE:GREGORIAN
BEGIN:VEVENT
DTSTART:20160320T000000Z
DTEND:20160320T020000Z
X-MICROSOFT-CDO-ALLDAYEVENT:FALSE
SUMMARY:Music Hall Presents - The Moth Mainstage
DESCRIPTION:TRUE STORIES\, TOLD LIVE\, NO NOTES\n\nThis flagship program featuring a mix of national storytellers and local voices\, including luminaries in the arts and sciences\, newsmakers and news breakers\, and everyday heroes (and even a few reformed villains!) makes its return to The Music Hall.  An ever-growing community where entertainment\, enlightenment\, and festivity merge\, comes to life on the historic stage for one magical night.
X-ALT-DESC;FMTTYPE=text/html:<h5 style="font-size: 0.875rem\; line-height: 1.125rem\; margin: 0px 0px 8px\; color: rgb(167\, 121\, 53)\; text-transform: uppercase\; font-family: 'Droid Sans'\, 'Lucida Grande'\, Arial\, sans-serif\;">TRUE STORIES\, TOLD LIVE\, NO NOTES</h5>\n\n<p style="margin: 0px 0px 15px\; padding: 0px\; color: rgb(102\, 102\, 102)\; font-family: 'Droid Sans'\, 'Lucida Grande'\, Arial\, sans-serif\; font-size: 16.8px\; line-height: 26.4px\;">This flagship program featuring a mix of national storytellers and local voices\, including luminaries in the arts and sciences\, newsmakers and news breakers\, and everyday heroes (and even a few reformed villains!) makes its return to The Music Hall.&nbsp\; An ever-growing community where entertainment\, enlightenment\, and festivity merge\, comes to life on the historic stage for one magical night.</p>\n
LOCATION:The Music Hall 28 Chestnut Street\, Portsmouth
UID:e.1659.16706
SEQUENCE:3
DTSTAMP:20260420T145643Z
URL:https://business.portsmouthchamber.org/events/details/music-hall-presents-the-moth-mainstage-03-19-2016-16706
END:VEVENT

END:VCALENDAR
