BEGIN:VCALENDAR
VERSION:2.0
PRODID:-//ChamberMaster//Event Calendar 2.0//EN
METHOD:PUBLISH
X-PUBLISHED-TTL:P3D
REFRESH-INTERVAL:P3D
CALSCALE:GREGORIAN
BEGIN:VEVENT
DTSTART:20260614T233000Z
DTEND:20260615T010000Z
X-MICROSOFT-CDO-ALLDAYEVENT:FALSE
SUMMARY:MUSIC: John Scofield Trio
DESCRIPTION:There has been a John Scofield Trio at play since the late 70's and it undisputedly remains his favorite format. The newest incarnation\, Scofield on guitar\, bassist Vicente Archer and drummer Bill Stewart are having fun. They sail through tightly knit sets that typify the musical diversity that has colored Scofield's long career: time honored jazz standards\, rock and blues classics\, savvy original Scofield compositions and whatever assorted off-the-cuff improvisations that turn up on a whim.\n\n\n\nMore than just a collection of tunes\, they play music that embodies the spirit that has kept improvisational jazz vigorous and visceral since its start. Named for the Grateful Dead song that concludes Scofield's inspired double album\, Uncle John's Band features masterful guitarist John Scofield at his most freewheeling. Scofield says\, "All in all it's a mixed bag of tunes but we treat them equally as vehicles for improvisation - not just covering the songs."
X-ALT-DESC;FMTTYPE=text/html:&nbsp\;There has been a John Scofield Trio at play since the late 70&#39\;s and it undisputedly remains his favorite format. The newest incarnation\, Scofield on guitar\, bassist Vicente Archer and drummer Bill Stewart are having fun. They sail through tightly knit sets that typify the musical diversity that has colored Scofield&#39\;s long career: time honored jazz standards\, rock and blues classics\, savvy original Scofield compositions and whatever assorted off-the-cuff improvisations that turn up on a whim.<br />\n<br />\nMore than just a collection of tunes\, they play music that embodies the spirit that has kept improvisational jazz vigorous and visceral since its start. Named for the Grateful Dead song that concludes Scofield&#39\;s inspired double album\, Uncle John&#39\;s Band features masterful guitarist John Scofield at his most freewheeling. Scofield says\, &quot\;All in all it&#39\;s a mixed bag of tunes but we treat them equally as vehicles for improvisation - not just covering the songs.&quot\;&nbsp\;
LOCATION:
UID:e.1659.91105
SEQUENCE:3
DTSTAMP:20260421T125331Z
URL:https://business.portsmouthchamber.org/events/details/music-john-scofield-trio-91105
END:VEVENT

END:VCALENDAR
