BEGIN:VCALENDAR
VERSION:2.0
PRODID:-//ChamberMaster//Event Calendar 2.0//EN
METHOD:PUBLISH
X-PUBLISHED-TTL:P3D
REFRESH-INTERVAL:P3D
CALSCALE:GREGORIAN
BEGIN:VEVENT
DTSTART:20251208T000000Z
DTEND:20251208T013000Z
X-MICROSOFT-CDO-ALLDAYEVENT:FALSE
SUMMARY:MUSIC: Kandace Springs
DESCRIPTION:After nearly three years\, Kandace Springs returns with Run Your Race (2024)\, a deeply personal tribute to her late father\, legendary Nashville soul singer Scat Springs. The album marks her first collection to feature almost all original songs\, written by Kandace both solo and with top collaborators including Gregg Wells (Adele)\, Matt Hales (Lianne La Havas)\, and longtime partners Evan Rogers and Carl Sturken (Rihanna). Backed by her all-female rhythm section and joined by guest artists Elena Pinderhughes (Herbie Hancock) and Karriem Riggins (Diana Krall)\, Kandace delivers her most heartfelt work to date.\n\n\n\nFrom "Look\," co-written with her father\, to the title track "Run Your Race\," the album honors his life\, legacy\, and love of music. Classic standards like "Wild Is the Wind" and "What a Wonderful World" also pay tribute to the songs he shared with her. Her previous album\, The Women Who Raised Me\, earned international acclaim and a Deutscher JazzPreis for Best Vocal Album.
X-ALT-DESC;FMTTYPE=text/html:After nearly three years\, Kandace Springs returns with Run Your Race (2024)\, a deeply personal tribute to her late father\, legendary Nashville soul singer Scat Springs. The album marks her first collection to feature almost all original songs\, written by Kandace both solo and with top collaborators including Gregg Wells (Adele)\, Matt Hales (Lianne La Havas)\, and longtime partners Evan Rogers and Carl Sturken (Rihanna). Backed by her all-female rhythm section and joined by guest artists Elena Pinderhughes (Herbie Hancock) and Karriem Riggins (Diana Krall)\, Kandace delivers her most heartfelt work to date.<br />\n<br />\nFrom &ldquo\;Look\,&rdquo\; co-written with her father\, to the title track &ldquo\;Run Your Race\,&rdquo\; the album honors his life\, legacy\, and love of music. Classic standards like &ldquo\;Wild Is the Wind&rdquo\; and &ldquo\;What a Wonderful World&rdquo\; also pay tribute to the songs he shared with her. Her previous album\, The Women Who Raised Me\, earned international acclaim and a Deutscher JazzPreis for Best Vocal Album.
LOCATION:Jimmy's Jazz & Blues Club 135 Congress St. Portsmouth N.H. 03801
UID:e.1659.86901
SEQUENCE:3
DTSTAMP:20260423T150843Z
URL:https://business.portsmouthchamber.org/events/details/music-kandace-springs-12-07-2025-86901
END:VEVENT

END:VCALENDAR
