BEGIN:VCALENDAR
VERSION:2.0
PRODID:-//ChamberMaster//Event Calendar 2.0//EN
METHOD:PUBLISH
X-PUBLISHED-TTL:P3D
REFRESH-INTERVAL:P3D
CALSCALE:GREGORIAN
BEGIN:VEVENT
DTSTART:20260112T003000Z
DTEND:20260112T020000Z
X-MICROSOFT-CDO-ALLDAYEVENT:FALSE
SUMMARY:MUSIC: LowDown Brass Band
DESCRIPTION:Embodying the vibrant Chicago music culture\, LowDown Brass Band is a one-of-a-kind horn ensemble weaving the rhythm of the streets with conscious hip hop\, reggae\, and soul. Rigorously touring\, LowDown has performed on the most unique stages\, from the Montreal Jazz Fest to the Cotai Jazz Fest. Despite the last four years\, LowDown has stayed busy\, releasing Three albums\, "The Reel Sessions\, LowDown Nights and $itizens of the World'\, which showcase their unique sound and further push the boundaries of their genre. Leaning on their talent and unconventional style\, LowDown Brass Band continues to carve out a path\, defying convention and charting their own course in the ever-evolving landscape of music.
X-ALT-DESC;FMTTYPE=text/html:<span style="color:rgb(31\, 38\, 45)\; font-family:averta\,proximanova\,arial\,sans-serif\; font-size:14px">Embodying the vibrant Chicago music culture\, LowDown Brass Band is a one-of-a-kind horn ensemble weaving the rhythm of the streets with conscious hip hop\, reggae\, and soul. Rigorously touring\, LowDown has performed on the most unique stages\, from the Montreal Jazz Fest to the Cotai Jazz Fest. Despite the last four years\, LowDown has stayed busy\, releasing Three albums\, &quot\;The Reel Sessions\, LowDown Nights and $itizens of the World&#39\;\, which showcase their unique sound and further push the boundaries of their genre. Leaning on their talent and unconventional style\, LowDown Brass Band continues to carve out a path\, defying convention and charting their own course in the ever-evolving landscape of music. </span>
LOCATION:
UID:e.1659.86972
SEQUENCE:3
DTSTAMP:20260423T133043Z
URL:https://business.portsmouthchamber.org/events/details/music-lowdown-brass-band-86972
END:VEVENT

END:VCALENDAR
