BEGIN:VCALENDAR
VERSION:2.0
PRODID:-//ChamberMaster//Event Calendar 2.0//EN
METHOD:PUBLISH
X-PUBLISHED-TTL:P3D
REFRESH-INTERVAL:P3D
CALSCALE:GREGORIAN
BEGIN:VEVENT
DTSTART:20260110T003000Z
DTEND:20260110T020000Z
X-MICROSOFT-CDO-ALLDAYEVENT:FALSE
SUMMARY:MUSIC: Maurice "Mobetta" Brown
DESCRIPTION:Trumpet sensation Maurice MOBETTA Brown orbits simultaneously through three worlds: contemporary jazz\, blues-rock and cutting-edge hip hop. He's a mastermind as a trumpeter\, composer\, arranger\, and producer. When Maurice picks up his horn\, his soulful melodies soar into a rarefied space that uniquely marries be-bop to hip-hop and rock\, producing his own distinctive sound.\n\n\n\nThe Chicago area native won the national Miles Davis Trumpet Competition as a teenager\, followed by a move to Louisiana to study under legendary clarinetist Alvin Batiste. His critically acclaimed debut\, "HIP TO BOP"\, recorded in New Orleans\, foreshadowed Brown's unique talent for creating fresh bop-inflected jazz with an urban pulse. Unfortunately\, Hurricane Katrina's devastation forced Maurice to relocate\, taking his horn to New York where he established himself by recording with Aretha Franklin\, Wyclef Jean\, De La Soul\, Macy Gray\, Dr. Lonnie Smith\, Lettuce and The Roots.
X-ALT-DESC;FMTTYPE=text/html:Trumpet sensation Maurice MOBETTA Brown orbits simultaneously through three worlds: contemporary jazz\, blues-rock and cutting-edge hip hop. He&rsquo\;s a mastermind as a trumpeter\, composer\, arranger\, and producer. When Maurice picks up his horn\, his soulful melodies soar into a rarefied space that uniquely marries be-bop to hip-hop and rock\, producing his own distinctive sound.<br />\n<br />\nThe Chicago area native won the national Miles Davis Trumpet Competition as a teenager\, followed by a move to Louisiana to study under legendary clarinetist Alvin Batiste. His critically acclaimed debut\, &ldquo\;HIP TO BOP&rdquo\;\, recorded in New Orleans\, foreshadowed Brown&rsquo\;s unique talent for creating fresh bop-inflected jazz with an urban pulse. Unfortunately\, Hurricane Katrina&rsquo\;s devastation forced Maurice to relocate\, taking his horn to New York where he established himself by recording with Aretha Franklin\, Wyclef Jean\, De La Soul\, Macy Gray\, Dr. Lonnie Smith\, Lettuce and The Roots.
LOCATION:Jimmy's Jazz & Blues Club 135 Congress St. Portsmouth N.H. 03801
UID:e.1659.86899
SEQUENCE:3
DTSTAMP:20260423T133255Z
URL:https://business.portsmouthchamber.org/events/details/music-maurice-mobetta-brown-01-09-2026-86899
END:VEVENT

END:VCALENDAR
