BEGIN:VCALENDAR
VERSION:2.0
PRODID:-//ChamberMaster//Event Calendar 2.0//EN
METHOD:PUBLISH
X-PUBLISHED-TTL:P3D
REFRESH-INTERVAL:P3D
CALSCALE:GREGORIAN
BEGIN:VEVENT
DTSTART;VALUE=DATE:20140904
DTEND;VALUE=DATE:20140905
TRANSP:TRANSPARENT
X-MICROSOFT-CDO-ALLDAYEVENT:TRUE
SUMMARY:Music on the Piscataqua
DESCRIPTION:From foot-stomping bluegrass to elegant jazz trios\, sunset concerts feature a variety of local musicians to enhance your sailing experience. Bring a picnic or beverages on the entertaining evening cruises. If the Gundalow company cancels due to weather conditions\, the concerts will be held in the barn at the Wentworth-Gardner House\, 50 Mechanic Street\, Portsmouth.
X-ALT-DESC;FMTTYPE=text/html:<span style="background: white\; color: black\; font-family: &quot\;Arial&quot\;\,&quot\;sans-serif&quot\;\; font-size: 12pt\; mso-fareast-font-family: Batang\; mso-ansi-language: EN-US\; mso-fareast-language: EN-US\; mso-bidi-language: AR-SA\; mso-bidi-font-weight: bold\;">From foot-stomping bluegrass to elegant jazz trios\, sunset concerts feature a variety of local musicians to enhance your sailing experience. Bring a picnic or beverages on the entertaining evening cruises. If the Gundalow company cancels due to weather conditions\, the concerts will be held in the barn at the Wentworth-Gardner House\, 50 Mechanic Street\, Portsmouth. </span>
LOCATION:
UID:e.1659.2797
SEQUENCE:3
DTSTAMP:20260419T174945Z
URL:https://business.portsmouthchamber.org/events/details/music-on-the-piscataqua-09-04-2014-2797
END:VEVENT

END:VCALENDAR
