BEGIN:VCALENDAR
VERSION:2.0
PRODID:-//ChamberMaster//Event Calendar 2.0//EN
METHOD:PUBLISH
X-PUBLISHED-TTL:P3D
REFRESH-INTERVAL:P3D
CALSCALE:GREGORIAN
BEGIN:VEVENT
DTSTART:20260227T123000Z
DTEND:20260227T140000Z
X-MICROSOFT-CDO-ALLDAYEVENT:FALSE
SUMMARY:MUSIC: Pokey LaFarge
DESCRIPTION:Following up the international success of 'Rhumba Country'\, Pokey LaFarge is set to embark on a SOLO tour this January through March\, playing an intimate set to theaters and jazz clubs throughout California and the Northeast. He'll be reimagining songs from his nine-album catalog as well as new interpretations of Gospel\, Rock & Roll\, and Country classics.
X-ALT-DESC;FMTTYPE=text/html:Following up the international success of &lsquo\;Rhumba Country&rsquo\;\, Pokey LaFarge is set to embark on a SOLO tour this January through March\, playing an intimate set to theaters and jazz clubs throughout California and the Northeast. He&rsquo\;ll be reimagining songs from his nine-album catalog as well as new interpretations of Gospel\, Rock &amp\; Roll\, and Country classics.
LOCATION:Jimmy's Jazz & Blues Club 135 Congress St. Portsmouth N.H. 03801
UID:e.1659.86896
SEQUENCE:3
DTSTAMP:20260423T084730Z
URL:https://business.portsmouthchamber.org/events/details/music-pokey-lafarge-86896
END:VEVENT

END:VCALENDAR
