BEGIN:VCALENDAR
VERSION:2.0
PRODID:-//ChamberMaster//Event Calendar 2.0//EN
METHOD:PUBLISH
X-PUBLISHED-TTL:P3D
REFRESH-INTERVAL:P3D
CALSCALE:GREGORIAN
BEGIN:VEVENT
DTSTART:20260122T003000Z
DTEND:20260122T020000Z
X-MICROSOFT-CDO-ALLDAYEVENT:FALSE
SUMMARY:MUSIC: Rebirth Brass Band
DESCRIPTION:"Just saw THE REBIRTH BRASS BAND\, unbelievable. Hard as hell\, free as a ray of light\, there is not a band on earth that is better. Stunning." Flea\, Red Hot Chili Peppers\n\n\n\nFor nearly four decades\, the GRAMMY-winning Rebirth Brass Band has been "stunning" audiences with their fiery live shows and unmistakable New Orleans sound. Blending the city's brass band tradition with elements of jazz\, funk\, soul\, and R&B\, Rebirth captures the heartbeat of the Crescent City like no other. Founded by brothers Phil and Keith Frazier\, the group began playing on the streets of the French Quarter before becoming fixtures at second lines and eventually global ambassadors of New Orleans music. Their legendary Tuesday residency at the Maple Leaf and collaborations with artists such as the Red Hot Chili Peppers\, the Grateful Dead\, and Trombone Shorty have cemented Rebirth as one of the most dynamic live bands in the world.
X-ALT-DESC;FMTTYPE=text/html:&ldquo\;Just saw THE REBIRTH BRASS BAND\, unbelievable. Hard as hell\, free as a ray of light\, there is not a band on earth that is better. Stunning.&rdquo\; Flea\, Red Hot Chili Peppers<br />\n<br />\nFor nearly four decades\, the GRAMMY-winning Rebirth Brass Band has been &ldquo\;stunning&rdquo\; audiences with their fiery live shows and unmistakable New Orleans sound. Blending the city&rsquo\;s brass band tradition with elements of jazz\, funk\, soul\, and R&amp\;B\, Rebirth captures the heartbeat of the Crescent City like no other. Founded by brothers Phil and Keith Frazier\, the group began playing on the streets of the French Quarter before becoming fixtures at second lines and eventually global ambassadors of New Orleans music. Their legendary Tuesday residency at the Maple Leaf and collaborations with artists such as the Red Hot Chili Peppers\, the Grateful Dead\, and Trombone Shorty have cemented Rebirth as one of the most dynamic live bands in the world.
LOCATION:Jimmy's Jazz & Blues Club 135 Congress St. Portsmouth N.H. 03801
UID:e.1659.86897
SEQUENCE:3
DTSTAMP:20260423T133210Z
URL:https://business.portsmouthchamber.org/events/details/music-rebirth-brass-band-86897
END:VEVENT

END:VCALENDAR
