BEGIN:VCALENDAR
VERSION:2.0
PRODID:-//ChamberMaster//Event Calendar 2.0//EN
METHOD:PUBLISH
X-PUBLISHED-TTL:P3D
REFRESH-INTERVAL:P3D
CALSCALE:GREGORIAN
BEGIN:VEVENT
DTSTART:20260111T003000Z
DTEND:20260111T020000Z
X-MICROSOFT-CDO-ALLDAYEVENT:FALSE
SUMMARY:MUSIC: Three Kings Of The Blues
DESCRIPTION:Jimmy's Jazz & Blues Club presents an unforgettable celebration of blues royalty\, featuring multiple vocalists honoring the legendary Three Kings of the Blues. You'll hear hits and carefully chosen deep cuts from the catalogs of B.B.\, Albert\, and Freddie\, performed with soul\, passion\, and conviction. Featured performers include blues legend Toni Lynn Washington\, 2x-Blues Music Award-nominated guitarist Peter Parcek (Pinetop Perkins)\, singer-songwriter Danielle Miraglia\, and Blues Music Awards nominee Diane Blue (Ronnie Earl and the Broadcasters).\n\n\n\nToni Lynn Washington has received multiple nominations for Soul-Blues Performer and Album of the Year. Buddy Guy on Parcek: "You're as bad as Eric Clapton & I know Eric Clapton." Ronnie Earl on Diane Blue: "She's got so much soul\, she blows me away." The Boston Globe raves\, "Miraglia has a voice that can go from a raspy come-hither purr to an Etta James-esque powerhouse belt."
X-ALT-DESC;FMTTYPE=text/html:Jimmy&rsquo\;s Jazz &amp\; Blues Club presents an unforgettable celebration of blues royalty\, featuring multiple vocalists honoring the legendary Three Kings of the Blues. You&rsquo\;ll hear hits and carefully chosen deep cuts from the catalogs of B.B.\, Albert\, and Freddie\, performed with soul\, passion\, and conviction. Featured performers include blues legend Toni Lynn Washington\, 2x-Blues Music Award-nominated guitarist Peter Parcek (Pinetop Perkins)\, singer-songwriter Danielle Miraglia\, and Blues Music Awards nominee Diane Blue (Ronnie Earl and the Broadcasters).<br />\n<br />\nToni Lynn Washington has received multiple nominations for Soul-Blues Performer and Album of the Year. Buddy Guy on Parcek: &ldquo\;You&rsquo\;re as bad as Eric Clapton &amp\; I know Eric Clapton.&rdquo\; Ronnie Earl on Diane Blue: &ldquo\;She&rsquo\;s got so much soul\, she blows me away.&rdquo\; The Boston Globe raves\, &ldquo\;Miraglia has a voice that can go from a raspy come-hither purr to an Etta James-esque powerhouse belt.&rdquo\;
LOCATION:Jimmy's Jazz & Blues Club 135 Congress St. Portsmouth N.H. 03801
UID:e.1659.86898
SEQUENCE:3
DTSTAMP:20260423T133545Z
URL:https://business.portsmouthchamber.org/events/details/music-three-kings-of-the-blues-86898
END:VEVENT

END:VCALENDAR
