BEGIN:VCALENDAR
VERSION:2.0
PRODID:-//ChamberMaster//Event Calendar 2.0//EN
METHOD:PUBLISH
X-PUBLISHED-TTL:P3D
REFRESH-INTERVAL:P3D
CALSCALE:GREGORIAN
BEGIN:VEVENT
DTSTART:20251203T123000Z
DTEND:20251221T220000Z
X-MICROSOFT-CDO-ALLDAYEVENT:FALSE
SUMMARY:MUSICAL: Irving Berlin’s White Christmas
DESCRIPTION:The Ogunquit Playhouse's production of Irving Berlin's White Christmas returns to The Music Hall this holiday season. Packed full of dazzling dance numbers\, iconic songs such as "Happy Holiday\," "Sisters\," "Blue Skies\," and the beloved title song\, as well as actors straight from Broadway\, you aren't going to want to miss this "holiday card come to life."\n\nThe magic of Broadway swings into the Historic Theater with spectacular dance numbers\, nostalgic songs\, and a few surprises that are sure to wow you.
X-ALT-DESC;FMTTYPE=text/html:<p>The Ogunquit Playhouse&rsquo\;s production of Irving Berlin&rsquo\;s White Christmas returns to The Music Hall this holiday season. Packed full of dazzling dance numbers\, iconic songs such as &ldquo\;Happy Holiday\,&rdquo\; &ldquo\;Sisters\,&rdquo\; &ldquo\;Blue Skies\,&rdquo\; and the beloved title song\, as well as actors straight from Broadway\, you aren&rsquo\;t going to want to miss this &ldquo\;holiday card come to life.&rdquo\;</p>\n\n<p>The magic of Broadway swings into the Historic Theater with spectacular dance numbers\, nostalgic songs\, and a few surprises that are sure to wow you.</p>\n
LOCATION:
UID:e.1659.86893
SEQUENCE:3
DTSTAMP:20260423T150806Z
URL:https://business.portsmouthchamber.org/events/details/musical-irving-berlin-s-white-christmas-86893
END:VEVENT

END:VCALENDAR
