BEGIN:VCALENDAR
VERSION:2.0
PRODID:-//ChamberMaster//Event Calendar 2.0//EN
METHOD:PUBLISH
X-PUBLISHED-TTL:P3D
REFRESH-INTERVAL:P3D
CALSCALE:GREGORIAN
BEGIN:VEVENT
DTSTART:20160313T170000Z
DTEND:20160313T190000Z
X-MICROSOFT-CDO-ALLDAYEVENT:FALSE
SUMMARY:National Theatre London HD @ The Music Hall Loft: As You Like it
DESCRIPTION:Shakespeare's comedy of love and change comes to the National Theatre of London for the first time in over 30 years. When Rosalind's father is banished\, Rosalind and her cousin Celia leave their lives in the court and journey into the Forest of Arden. Disguising herself as a boy\, Rosalind embraces a different way of living and falls spectacularly in love.
X-ALT-DESC;FMTTYPE=text/html:<span style="color: rgb(102\, 102\, 102)\; font-family: 'Droid Sans'\, 'Lucida Grande'\, Arial\, sans-serif\; font-size: 16.8px\; line-height: 26.4px\;">Shakespeare&rsquo\;s comedy of love and change comes to the National Theatre of London for the first time in over 30 years. When Rosalind&rsquo\;s father is banished\, Rosalind and her cousin Celia leave their lives in the court and journey into the Forest of Arden. Disguising herself as a boy\, Rosalind embraces a different way of living and falls spectacularly in love.</span>
LOCATION:The Music Hall Loft 131 Congress Street\, Portsmouth
UID:e.1659.16701
SEQUENCE:3
DTSTAMP:20260420T150743Z
URL:https://business.portsmouthchamber.org/events/details/national-theatre-london-hd-the-music-hall-loft-as-you-like-it-03-13-2016-16701
END:VEVENT

END:VCALENDAR
