BEGIN:VCALENDAR
VERSION:2.0
PRODID:-//ChamberMaster//Event Calendar 2.0//EN
METHOD:PUBLISH
X-PUBLISHED-TTL:P3D
REFRESH-INTERVAL:P3D
CALSCALE:GREGORIAN
BEGIN:VEVENT
DTSTART:20160319T180000Z
DTEND:20160319T200000Z
X-MICROSOFT-CDO-ALLDAYEVENT:FALSE
SUMMARY:Neoteric Dance Collaborative presents Caffeine & Choreography
DESCRIPTION:Neoteric Dance Collaborative (NEO) and Teatotaller Tea House are at it again for Season Three of our Caffeine + Choreography series! \n\n\n\nC+C pairs an interactive look at Neoteric Dance Collaborative's choreographic process with a complimentary beverage from Teatotaller Tea House. Audience members are given the opportunity to meet the company\, learn about the creation of dance\, and preview repertory works in progress.\n\n\n\nDuring this open rehearsal\, audience members become part of NEO's collaborative process. Using the choreography skills that you've acquired during the program\, the audience will be able to make changes to a piece of repertory that they have already seen. The audience becomes the choreographer.\n\n\n\nAnd finally\, when NEO dances - they encourage everyone to join in. Each C + C ends with a follow the leader style dance jam. If you would like to dance with us\, do! If not\, sit back\, sip on your Teatotaller beverage and let the dance unfold before you.
X-ALT-DESC;FMTTYPE=text/html:Neoteric Dance Collaborative&nbsp\;(NEO) and&nbsp\;Teatotaller Tea House&nbsp\;are at it again for Season Three of our Caffeine + Choreography series!&nbsp\;<br />\n<br />\nC+C pairs an interactive look at Neoteric Dance Collaborative&#39\;s choreographic process with a complimentary beverage from Teatotaller Tea House. Audience members are given the opportunity to meet the company\, learn about the creation of dance\, and preview repertory works in progress.<br />\n<br />\nDuring this open rehearsal\, audience members become part of NEO&rsquo\;s collaborative process. Using the choreography skills that you&#39\;ve acquired during the program\, the audience will be able to make changes to a piece of repertory that they have already seen. The audience becomes the choreographer.<br />\n<br />\nAnd finally\, when NEO dances - they encourage everyone to join in. Each C + C ends with a follow the leader style dance jam. If you would like to dance with us\, do! If not\, sit back\, sip on your Teatotaller beverage and let the dance unfold before you.
LOCATION:3S Artspace 319 Vaughan Street\, Portsmouth
UID:e.1659.17898
SEQUENCE:3
DTSTAMP:20260420T144556Z
URL:https://business.portsmouthchamber.org/events/details/neoteric-dance-collaborative-presents-caffeine-choreography-03-19-2016-17898
END:VEVENT

END:VCALENDAR
