BEGIN:VCALENDAR
VERSION:2.0
PRODID:-//ChamberMaster//Event Calendar 2.0//EN
METHOD:PUBLISH
X-PUBLISHED-TTL:P3D
REFRESH-INTERVAL:P3D
CALSCALE:GREGORIAN
BEGIN:VEVENT
DTSTART:20140622T170000Z
DTEND:20140622T203000Z
X-MICROSOFT-CDO-ALLDAYEVENT:FALSE
SUMMARY:New Castle Village Walk & Garden Tour
DESCRIPTION:Enjoy a self-guided walking tour through beautiful private gardens in historic New Castle.\n\nBuy your ticket in advance online for just $15. On the day of the event\, tickets may be purchased for $20 at the Coast Guard Station in the parking area off Route 1B\, New Castle.
X-ALT-DESC;FMTTYPE=text/html:<span style="font-family: Arial\, Helvetica\, sans-serif\; font-size: 16px\; background-color: rgb(255\, 255\, 255)\;">Enjoy a self-guided walking tour through beautiful private gardens in historic New Castle.<br />\nBuy your ticket in advance online for just $15. On the day of the event\, tickets may be purchased for $20 at the Coast Guard Station in the parking area off Route 1B\, New Castle.</span>
LOCATION:
UID:e.1659.2121
SEQUENCE:3
DTSTAMP:20260419T202949Z
URL:https://business.portsmouthchamber.org/events/details/new-castle-village-walk-garden-tour-06-22-2014-2121
END:VEVENT

END:VCALENDAR
