BEGIN:VCALENDAR
VERSION:2.0
PRODID:-//ChamberMaster//Event Calendar 2.0//EN
METHOD:PUBLISH
X-PUBLISHED-TTL:P3D
REFRESH-INTERVAL:P3D
CALSCALE:GREGORIAN
BEGIN:VEVENT
DTSTART:20161104T210000Z
DTEND:20161105T000000Z
X-MICROSOFT-CDO-ALLDAYEVENT:FALSE
SUMMARY:New Hampshire Art Association's 17th Annual Joan Dunfey Open Juried Exhibition
DESCRIPTION:NHAA's Annual Joan Dunfey Juried Exhibition features artwork of all genres and mediums by NHAA members and area artists. Opening reception open to the public with refreshments Fri. Nov. 4\, 5-8 pm at the Robert Lincoln Levy Gallery.
X-ALT-DESC;FMTTYPE=text/html:NHAA&#39\;s Annual Joan Dunfey Juried Exhibition features artwork of all genres and mediums by NHAA members and area artists. Opening reception open to the public with refreshments Fri. Nov. 4\, 5-8 pm at the Robert Lincoln Levy Gallery.&nbsp\;
LOCATION:Robert Lincoln Levy Gallery 136 State Street Portsmouth
UID:e.1659.25888
SEQUENCE:3
DTSTAMP:20260421T225716Z
URL:https://business.portsmouthchamber.org/events/details/new-hampshire-art-association-s-17th-annual-joan-dunfey-open-juried-exhibition-25888
END:VEVENT

END:VCALENDAR
