BEGIN:VCALENDAR
VERSION:2.0
PRODID:-//ChamberMaster//Event Calendar 2.0//EN
METHOD:PUBLISH
X-PUBLISHED-TTL:P3D
REFRESH-INTERVAL:P3D
CALSCALE:GREGORIAN
BEGIN:VEVENT
DTSTART:20161112T220000Z
DTEND:20161113T010000Z
X-MICROSOFT-CDO-ALLDAYEVENT:FALSE
SUMMARY:New Hampshire Art Association's "Ebb & Flow Silent Auction Exhibition
DESCRIPTION:NHAA will be hosting a silent auction exhibition and gala event to raise funds for our online art gallery. This is a fun event with food\, music\, and art that is open to the public. Come see art by NHAA members and bid on artwork and gift baskets.
X-ALT-DESC;FMTTYPE=text/html:NHAA will be hosting a silent auction exhibition and gala event to raise funds for our online art gallery. This is a fun event with food\, music\, and art that is open to the public. Come see art by NHAA members and bid on artwork and gift baskets.&nbsp\;
LOCATION:Robert Lincoln Levy Gallery 136 State Street Portsmouth\, NH
UID:e.1659.25887
SEQUENCE:3
DTSTAMP:20260421T225336Z
URL:https://business.portsmouthchamber.org/events/details/new-hampshire-art-association-s-ebb-flow-silent-auction-exhibition-25887
END:VEVENT

END:VCALENDAR
