BEGIN:VCALENDAR
VERSION:2.0
PRODID:-//ChamberMaster//Event Calendar 2.0//EN
METHOD:PUBLISH
X-PUBLISHED-TTL:P3D
REFRESH-INTERVAL:P3D
CALSCALE:GREGORIAN
BEGIN:VEVENT
DTSTART;VALUE=DATE:20141025
DTEND;VALUE=DATE:20141026
TRANSP:TRANSPARENT
X-MICROSOFT-CDO-ALLDAYEVENT:TRUE
SUMMARY:New Hampshire Brew Fest
DESCRIPTION:Held on the grounds of beautiful Redhook Ale Brewery\, this event is being presented as a special fundraiser for the Prescott Park Arts Festival in partnership with Master Brewers Association of America and WHEB's The Morning Buzz. Admission includes entry to the event\, 5 oz. souvenir sampler cup\, beer samples and live music and entertainment.
X-ALT-DESC;FMTTYPE=text/html:Held&nbsp\;on&nbsp\;the&nbsp\;grounds&nbsp\;of&nbsp\;beautiful&nbsp\;Redhook Ale Brewery\, this event is being presented as a special fundraiser for the Prescott Park Arts Festival in partnership with Master Brewers Association of America and WHEB&#39\;s The Morning Buzz.&nbsp\;Admission includes entry to the event\, 5 oz. souvenir sampler cup\,&nbsp\;beer&nbsp\;samples&nbsp\;and live music and entertainment.
LOCATION:Redhook Ale Brewery\, benefit Prescott Park Arts Festival.
UID:e.1659.2148
SEQUENCE:3
DTSTAMP:20260419T144235Z
URL:https://business.portsmouthchamber.org/events/details/new-hampshire-brew-fest-10-25-2014-2148
END:VEVENT

END:VCALENDAR
