BEGIN:VCALENDAR
VERSION:2.0
PRODID:-//ChamberMaster//Event Calendar 2.0//EN
METHOD:PUBLISH
X-PUBLISHED-TTL:P3D
REFRESH-INTERVAL:P3D
CALSCALE:GREGORIAN
BEGIN:VEVENT
DTSTART;VALUE=DATE:20140621
DTEND;VALUE=DATE:20140623
TRANSP:TRANSPARENT
X-MICROSOFT-CDO-ALLDAYEVENT:TRUE
SUMMARY:New Hampshire's Birthday
DESCRIPTION:New Hampshire Birthday Weekend\n\nSaturday\, June 21 & Sunday\, June 22
X-ALT-DESC;FMTTYPE=text/html:<p style="font-family: Helvetica\, Arial\, FreeSans\, sans-serif\; font-size: 13px\; border: 0px none\; outline: 0px\; padding: 0px\; margin: 8px 0px\; color: rgb(68\, 68\, 68)\; line-height: 17.15999984741211px\; background-color: rgb(255\, 255\, 255)\;"><strong style="font-family: inherit\; font-style: inherit\; border: 0px none\; outline: 0px\; padding: 0px\; margin: 0px\;"><span style="font-weight: inherit\; font-family: inherit\; font-style: inherit\; font-size: 12pt\; border: 0px none\; outline: 0px\; padding: 0px\; margin: 0px\;">New Hampshire Birthday Weekend</span></strong></p>\n\n<p style="font-family: Helvetica\, Arial\, FreeSans\, sans-serif\; font-size: 13px\; border: 0px none\; outline: 0px\; padding: 0px\; margin: 8px 0px\; color: rgb(68\, 68\, 68)\; line-height: 17.15999984741211px\; background-color: rgb(255\, 255\, 255)\;"><strong style="font-family: inherit\; font-style: inherit\; border: 0px none\; outline: 0px\; padding: 0px\; margin: 0px\;"><span style="font-weight: inherit\; font-family: inherit\; font-style: inherit\; font-size: 12pt\; border: 0px none\; outline: 0px\; padding: 0px\; margin: 0px\;">Saturday\, June 21 &amp\; Sunday\, June 22</span></strong></p>\n\n<p style="font-family: Helvetica\, Arial\, FreeSans\, sans-serif\; font-size: 13px\; border: 0px none\; outline: 0px\; padding: 0px\; margin: 8px 0px\; color: rgb(68\, 68\, 68)\; line-height: 17.15999984741211px\; text-align: center\; background-color: rgb(255\, 255\, 255)\;">&nbsp\;</p>\n
LOCATION:
UID:e.1659.2130
SEQUENCE:3
DTSTAMP:20260419T202320Z
URL:https://business.portsmouthchamber.org/events/details/new-hampshire-s-birthday-06-21-2014-2130
END:VEVENT

END:VCALENDAR
